BEGIN:VCALENDAR
VERSION:2.0
PRODID:-//ChamberMaster//Event Calendar 2.0//EN
METHOD:PUBLISH
X-PUBLISHED-TTL:P3D
REFRESH-INTERVAL:P3D
CALSCALE:GREGORIAN
BEGIN:VEVENT
DTSTART:20200613T120000Z
DTEND:20200613T160000Z
X-MICROSOFT-CDO-ALLDAYEVENT:FALSE
SUMMARY:Tour de Sussex
DESCRIPTION:Tour de Sussex is sponsored by Delaware Technical Community College. The Workforce Development and Community Education Division at Delaware Technical Community College Owens Campus has developed a wonderful opportunity for non-residents and residents alike to see all Sussex County has to offer through the premier cycling event. Ride to support the community: Proceeds from the event will provide scholarships for Workforce Development students.
X-ALT-DESC;FMTTYPE=text/html:<span style="font-size: 14px\;"><span style="font-family: arial\;">Tour de Sussex is sponsored by Delaware Technical Community College. The Workforce Development and Community Education Division at Delaware Technical Community College Owens Campus has developed a wonderful opportunity for non-residents and residents alike to see all Sussex County has to offer through the premier cycling event. Ride to support the community: Proceeds from the event will provide scholarships for Workforce Development students.</span></span>
LOCATION:Delaware Technical Community College 21179 College Drive Georgetown\, DE 19947
UID:e.2126.16766
SEQUENCE:3
DTSTAMP:20260425T180905Z
URL:http://business.thequietresorts.com/events/details/tour-de-sussex-06-13-2020-16766
END:VEVENT

END:VCALENDAR
