BEGIN:VCALENDAR
VERSION:2.0
PRODID:-//ChamberMaster//Event Calendar 2.0//EN
METHOD:PUBLISH
X-PUBLISHED-TTL:P3D
REFRESH-INTERVAL:P3D
CALSCALE:GREGORIAN
BEGIN:VEVENT
DTSTART:20240325T210000Z
DTEND:20240325T220000Z
X-MICROSOFT-CDO-ALLDAYEVENT:FALSE
SUMMARY:Titling Assets: Avoiding Probate at Georgetown Public Library
DESCRIPTION:A free class is being offered to the Public at the Georgetown Public Library\, located at 123 West Pine Street\, Georgetown\, Delaware. \n\nThe class covers avoiding probate\, how to make the transition of property occur seamlessly at the time of death\, without "opening an estate". The sponsor\, Delaware Money School\, is delighted to be able to provide free of charge\, an experienced and well qualified instructor\, Deirdre O'Shea McCartney Esquire to the public. Having written\, spoken and taught on the subject many times\, she breaks down what appears to be a complex subject\, to simple understandable layman's terms. This class focuses only on steps the lay person can take so assets transfer at death\, to the intended beneficiaries by operation of law\, immediately and automatically. For those who have served as a personal representative or executor of an estate\, they know first hand how complex\, expensive and time consuming the probate process can be. Everyone should have a will prepared with a competent Attorney. This class teaches how to prepare an estate in such a manner that the entire probate process can be avoided and the will never comes into play. \n\nThe Money School is the signature program of the nonprofit Delaware Financial Literacy Institute. They offer more than 600 free\, no-hassle personal finance classes a year\, throughout the state\, taught by volunteers from the nonprofit and corporate sectors.\n\nRegistration to attend the class is done online at: http://www.demoneyschool.org \n\nFor more information on this class contact: Diana Steelman Diana@sussexattorney.com Office: 302-515-1824
X-ALT-DESC;FMTTYPE=text/html:<p><span style="font-size:14px">A free class is being offered to the Public at the Georgetown Public Library\, located at 123 West Pine Street\, Georgetown\, Delaware. </span></p>\n\n<p><span style="font-size:14px">The class covers avoiding probate\, how to make the transition of property occur seamlessly at the time of death\, without &ldquo\;opening an estate&ldquo\;. The sponsor\, Delaware Money School\, is delighted to be able to provide free of charge\, an experienced and well qualified instructor\, Deirdre O&rsquo\;Shea McCartney Esquire to the public. Having written\, spoken and taught on the subject many times\, she breaks down what appears to be a complex subject\, to simple understandable layman&rsquo\;s terms. This class focuses only on steps the lay person can take so assets transfer at death\, to the intended beneficiaries by operation of law\, immediately and automatically. For those who have served as a personal representative or executor of an estate\, they know first hand how complex\, expensive and time consuming the probate process can be. </span><span style="font-size:14px">Everyone should have a will prepared with a competent Attorney. This class teaches how to prepare an estate in such a manner that the entire probate process can be avoided and the will never comes into play. </span></p>\n\n<p><span style="font-size:14px">The Money School is the signature program of the nonprofit Delaware Financial Literacy Institute. They offer more than 600 free\, no-hassle personal finance classes a year\, throughout the state\, taught by volunteers from the nonprofit and corporate sectors.</span></p>\n\n<p><span style="font-size:14px">Registration to attend the class is done online at: <a href="https://www.demoneyschool.org/index.cfm?ref=02000">http://www.demoneyschool.org</a> </span></p>\n\n<p><span style="font-size:14px">For more information on this class contact: Diana Steelman Diana@sussexattorney.com Office: 302-515-1824</span></p>\n
LOCATION:Georgetown Public Library 123 West Pine St. Georgetown\, DE 19947
UID:e.2126.28274
SEQUENCE:3
DTSTAMP:20260420T073111Z
URL:http://business.thequietresorts.com/events/details/titling-assets-avoiding-probate-at-georgetown-public-library-28274
END:VEVENT

END:VCALENDAR
