BEGIN:VCALENDAR
VERSION:2.0
PRODID:-//ChamberMaster//Event Calendar 2.0//EN
METHOD:PUBLISH
X-PUBLISHED-TTL:P3D
REFRESH-INTERVAL:P3D
CALSCALE:GREGORIAN
BEGIN:VEVENT
DTSTART:20210506T123000Z
DTEND:20210506T131000Z
X-MICROSOFT-CDO-ALLDAYEVENT:FALSE
SUMMARY:Tickled Pink of Bethany Beach "Grand Opening & Ribbon Cutting"
DESCRIPTION:Join the staff at Tickled Pink of Bethany Beach  in celebrating their Grand Opening and Ribbon Cutting on Thursday May 6\, 2021 beginning at 8:30am.
X-ALT-DESC;FMTTYPE=text/html:<span style="color: rgb(51\, 51\, 51)\; font-family: sans-serif\, Arial\, Verdana\, &quot\;Trebuchet MS&quot\;\; font-size: 13px\; background-color: rgb(255\, 255\, 255)\;">Join the staff at Tickled Pink of Bethany Beach&nbsp\; in celebrating their Grand Opening and Ribbon Cutting on Thursday May 6\, 2021 beginning at 8:30am.&nbsp\;&nbsp\;</span><br />\n&nbsp\;
LOCATION:Tickled Pink of Bethany Beach 100 Garfield Parkway #10 Bethany Beach\, DE 19930
UID:e.2126.22006
SEQUENCE:3
DTSTAMP:20260424T204420Z
URL:http://business.thequietresorts.com/events/details/tickled-pink-of-bethany-beach-grand-opening-ribbon-cutting-22006
END:VEVENT

END:VCALENDAR
