BEGIN:VCALENDAR
VERSION:2.0
PRODID:-//ChamberMaster//Event Calendar 2.0//EN
METHOD:PUBLISH
X-PUBLISHED-TTL:P3D
REFRESH-INTERVAL:P3D
CALSCALE:GREGORIAN
BEGIN:VEVENT
DTSTART:20240425T220000Z
DTEND:20240425T233000Z
X-MICROSOFT-CDO-ALLDAYEVENT:FALSE
SUMMARY:Thursday Night Tunes & Trivia with Jersey John at Bethany Brewing
DESCRIPTION:Join us for music and trivia with Jersey John from 6:00pm-7:30pm.\n\nWeekly prizes for trivia winners and end of season prizes too!
X-ALT-DESC;FMTTYPE=text/html:<span style="color:#333333"><span style="font-family:arial\,sans-serif"><span style="font-size:10.0pt">Join us for music and trivia with Jersey John from 6:00pm-7:30pm.<br />\nWeekly prizes for trivia winners and end of season prizes too!</span></span></span>
LOCATION:Bethany Brewing 38450 Hickman Rd. Ocean View\, DE 19970
UID:e.2126.28731
SEQUENCE:3
DTSTAMP:20260420T073945Z
URL:http://business.thequietresorts.com/events/details/thursday-night-tunes-trivia-with-jersey-john-at-bethany-brewing-04-25-2024-28731
END:VEVENT

END:VCALENDAR
