BEGIN:VCALENDAR
VERSION:2.0
PRODID:-//ChamberMaster//Event Calendar 2.0//EN
METHOD:PUBLISH
X-PUBLISHED-TTL:P3D
REFRESH-INTERVAL:P3D
CALSCALE:GREGORIAN
BEGIN:VEVENT
DTSTART:20240617T140000Z
DTEND:20240619T153000Z
X-MICROSOFT-CDO-ALLDAYEVENT:FALSE
SUMMARY:Three Day Kids Craft Camp at Board & Brush
DESCRIPTION:Looking for some summer fun and crafting for your kids? Join us for our three day Kids' Camp Workshops! Your child will enjoy hands-on fun mixing paint and creating their very own personalized projects! Select a theme from the available options. Each theme includes four unique DIY projects for your child to create and have fun with!\nhttps://boardandbrush.com/bethanybeach/events/kids-camp-workshop-06-17-2024-10am-1130am/
X-ALT-DESC;FMTTYPE=text/html:<div>Looking for some summer fun and crafting for your kids? Join us for our three day Kids&rsquo\; Camp Workshops! Your child will enjoy hands-on fun mixing paint and creating their very own personalized projects! Select a theme from the available options. Each theme includes four unique DIY projects for your child to create and have fun with!</div>\nhttps://boardandbrush.com/bethanybeach/events/kids-camp-workshop-06-17-2024-10am-1130am/
LOCATION:30447 Cedar Neck Rd. UNIT 2 Ocean View\, DE 19970
UID:e.2126.30081
SEQUENCE:3
DTSTAMP:20260420T090933Z
URL:http://business.thequietresorts.com/events/details/three-day-kids-craft-camp-at-board-brush-30081
END:VEVENT

END:VCALENDAR
