BEGIN:VCALENDAR
VERSION:2.0
PRODID:-//ChamberMaster//Event Calendar 2.0//EN
METHOD:PUBLISH
X-PUBLISHED-TTL:P3D
REFRESH-INTERVAL:P3D
CALSCALE:GREGORIAN
BEGIN:VEVENT
DTSTART:20230729T140000Z
DTEND:20230729T160000Z
X-MICROSOFT-CDO-ALLDAYEVENT:FALSE
SUMMARY:Those Wild and Crazy Grasses You Never Need to Mow! with Scott Freedman
DESCRIPTION:Ornamental grasses are a fixture in the landscape in beach areas as they offer long seasonal interest and play in harmony with beach breezes.  Come discover the many wonderful native options for including grasses in your landscape.  This class will discuss the many native options available\, site considerations and maintenance and care. \n\nYou'll have the opportunity to meet these grasses up close and personal at the garden center and perhaps even take some home to enjoy their beauty and seasonal versatility in your own yard. \n\nScott's work experience includes working in the tree care industry as an ISA Certified Arborist\, construction administrator with a natural resources preservation company\, manager of a commercial landscape maintenance company and most recently as the grounds and plant health care specialist at Mt Cuba Center.\n\nClick here to get tickets!
X-ALT-DESC;FMTTYPE=text/html:<p>Ornamental grasses are a fixture in the landscape in beach areas as they offer long seasonal interest and play in harmony with beach breezes.&nbsp\; Come discover the many wonderful native options for including grasses in your landscape.&nbsp\; This class will discuss the many native options available\, site considerations&nbsp\;and&nbsp\;maintenance and care.&nbsp\;</p>\n\n<p>You&rsquo\;ll have the opportunity to meet these grasses up close and personal at the garden center and perhaps even take some home to enjoy their beauty and seasonal versatility in your own yard.&nbsp\;</p>\n\n<p>Scott&rsquo\;s work&nbsp\;experience includes working in the tree care industry as an ISA Certified Arborist\, construction administrator with a natural resources preservation company\, manager of a commercial landscape maintenance company and most recently as the grounds and plant health care specialist at Mt Cuba Center.</p>\n\n<p><a href="https://www.eventbrite.com/e/those-wild-and-crazy-grasses-you-never-need-to-mow-tickets-623806741757" style="box-sizing: border-box\; background-color: transparent\; border-bottom: 1px solid currentcolor\; text-decoration-line: none\; color: rgb(28\, 30\, 31) !important\;"><strong>Click here to get tickets!</strong></a></p>\n
LOCATION:Inland Bays Garden Center 38320 Muddy Neck Rd\, Frankford\, DE\, 19945
UID:e.2126.26148
SEQUENCE:3
DTSTAMP:20260420T230845Z
URL:http://business.thequietresorts.com/events/details/those-wild-and-crazy-grasses-you-never-need-to-mow-with-scott-freedman-26148
END:VEVENT

END:VCALENDAR
