BEGIN:VCALENDAR
VERSION:2.0
PRODID:-//ChamberMaster//Event Calendar 2.0//EN
METHOD:PUBLISH
X-PUBLISHED-TTL:P3D
REFRESH-INTERVAL:P3D
CALSCALE:GREGORIAN
BEGIN:VEVENT
DTSTART:20200424T140000Z
DTEND:20200426T200000Z
X-MICROSOFT-CDO-ALLDAYEVENT:FALSE
SUMMARY:The Ward World Championship Wildfowl Carving Competition and Art Festival
DESCRIPTION:The World Championship is an international event where carvers\, collectors\, and visitors convene at the end of each April in Ocean City\, MD. From highly decorative works of art to functional hunting decoys\, about 1200 different wildfowl carvings representing more than 150 species from around the world can be viewed at the premiere\, most prestigious competition in the world. Competitors of all levels\, from youth to world champions\, compete against their peers in multiple divisions.
X-ALT-DESC;FMTTYPE=text/html:<span style="font-family: arial\;"><span style="font-size: 14px\;">The World Championship is an international event where carvers\, collectors\, and visitors convene at the end of each April in Ocean City\, MD. From highly decorative works of art to functional hunting decoys\, about 1200 different wildfowl carvings representing more than 150 species from around the world can be viewed at the premiere\, most prestigious competition in the world. Competitors&nbsp\;of all levels\, from youth to world champions\, compete against their peers in multiple divisions.</span></span>
LOCATION:The Roland E. Powell Convention Center 4001 Coastal Highway Ocean City\, MD 21842
UID:e.2126.18416
SEQUENCE:3
DTSTAMP:20260425T225750Z
URL:http://business.thequietresorts.com/events/details/the-ward-world-championship-wildfowl-carving-competition-and-art-festival-18416
END:VEVENT

END:VCALENDAR
