BEGIN:VCALENDAR
VERSION:2.0
PRODID:-//ChamberMaster//Event Calendar 2.0//EN
METHOD:PUBLISH
X-PUBLISHED-TTL:P3D
REFRESH-INTERVAL:P3D
CALSCALE:GREGORIAN
BEGIN:VEVENT
DTSTART:20240615T163000Z
DTEND:20240615T213000Z
X-MICROSOFT-CDO-ALLDAYEVENT:FALSE
SUMMARY:The Town of Ocean View Celebrates 135 Years!
DESCRIPTION:The Town of Ocean View is turning 135 and they're throwing a party to celebrate!  Come to the beautiful John West Park on Saturday\, June 15th\, for a day of family fun from 12:30 - 5:30 PM.  The rain date for this event is June 16th!  Shuttles will be running from Ocean View Church of Christ\, compliments of Indian River Golf Carts.\n\n\n\nActivities Include: \n\n	Parade Down West Avenue - 12:30 PM \n	Beer Garden by Ocean View Brewing Co.\, with commemorative four packs of Ocean View IPA & draft sales\n	Live Music by the Funsters and Overtime (bring your lawn chairs!)\n	Scout Treoop 281 & Ocean View Fmaily\n	Bonkey's Ice Cream\, Cotton Candy\, and Celebratory Cupcakes (while supplies last)\n	A Rock Wall and Obstacle Course for Kids! \n	\n		sponsored by WSFS\, Fulton Bank\, the Bethany-Fenwick Area Chamber of Commerce\, and KCI Technologies\n	\n	\n	Ocean View PD\, Millville VFC\, Historic Village Tours\, the VFW Post 7234 & More!\n\n\n\nFor full event information and updates\, visit www.oceanviewde.gov.
X-ALT-DESC;FMTTYPE=text/html:The Town of Ocean View is turning 135 and they&#39\;re throwing a party to celebrate!&nbsp\; Come to the beautiful John West Park on Saturday\, June 15th\, for a day of family fun from 12:30 - 5:30 PM.&nbsp\; The rain date for this event is June 16th!&nbsp\; Shuttles will be running from Ocean View Church of Christ\, compliments of Indian River Golf Carts.<br />\n<br />\nActivities Include:&nbsp\;\n<ul>\n	<li>Parade Down West Avenue - 12:30 PM&nbsp\;</li>\n	<li>Beer Garden by Ocean View Brewing Co.\, with commemorative four packs of Ocean View IPA &amp\; draft sales</li>\n	<li>Live Music by the Funsters and Overtime (bring your lawn chairs!)</li>\n	<li>Scout Treoop 281 &amp\; Ocean View Fmaily</li>\n	<li>Bonkey&#39\;s Ice Cream\, Cotton Candy\, and Celebratory Cupcakes (while supplies last)</li>\n	<li>A Rock Wall and Obstacle Course for Kids!&nbsp\;\n	<ul>\n		<li>sponsored by WSFS\, Fulton Bank\, the Bethany-Fenwick Area Chamber of Commerce\, and KCI Technologies</li>\n	</ul>\n	</li>\n	<li>Ocean View PD\, Millville VFC\, Historic Village Tours\, the VFW Post 7234 &amp\; More!</li>\n</ul>\n<br />\nFor full event information and updates\, visit <a href="https://www.oceanviewde.gov/">www.oceanviewde.gov</a>.<br />\n<br />\n&nbsp\;
LOCATION:John West Park 32 West Ave. Ocean View\, DE 19970
UID:e.2126.30120
SEQUENCE:3
DTSTAMP:20260420T091522Z
URL:http://business.thequietresorts.com/events/details/the-town-of-ocean-view-celebrates-135-years-30120
END:VEVENT

END:VCALENDAR
