BEGIN:VCALENDAR
VERSION:2.0
PRODID:-//ChamberMaster//Event Calendar 2.0//EN
METHOD:PUBLISH
X-PUBLISHED-TTL:P3D
REFRESH-INTERVAL:P3D
CALSCALE:GREGORIAN
BEGIN:VEVENT
DTSTART:20240628T230000Z
DTEND:20240629T020000Z
X-MICROSOFT-CDO-ALLDAYEVENT:FALSE
SUMMARY:The Super '70s Concert Experience Featuring Super Trans Am
DESCRIPTION:Children 12 and under do not require a ticket and are free to attend.\n\n\nSuper Trans AM is the most unique and innovative theme band on the market today\, playing all of your favorite arena anthems and chart-topping radio hits of the 1970s.   \n\n \n\nCombining unparalleled musicianship with artistic and inspired A/V production\, you'll enjoy revisiting classic singalongs from one of the most definable decades in American history. Performing masterworks from icons such as The Eagles\, Hall & Oates\, Queen\, The Doobie Brothers\, Paul McCartney & Wings\, Peter Frampton\, Foreigner\, Kiss\, Boston and Journey as well as "Yacht Rock" favorites such as "Still the One" by Orleans and Pilot's "Magic\," your audience will fall in love with this epic decade of memorable music all over again.\n\n \n\nIt's time to dust off your flared jeans\, break out the air guitar and take a trip back to the days when "Welcome Back Kotter" and "Happy Days" kept us glued to our televisions\, Gerald Ford and Jimmy Carter led our nation\, kids jumped Evil Kneivel toys over their Matchbox cars and these timeless songs became the soundtrack to our lives.\n\n \n\nLadies and gentlemen   start your engines   Super Trans AM is coming to Selbyville!
X-ALT-DESC;FMTTYPE=text/html:<div>\n<p><em>Children 12 and under do not require a ticket and are free to attend.</em></p>\n</div>\n\n<div>Super Trans AM is the most unique and innovative theme band on the market today\, playing all of your favorite arena anthems and chart-topping radio hits of the 1970s. &nbsp\;&nbsp\;</div>\n\n<div>&nbsp\;</div>\n\n<div>Combining unparalleled musicianship with artistic and inspired A/V production\, you&rsquo\;ll enjoy revisiting classic singalongs from one of the most definable decades in American history. Performing masterworks from icons such as The Eagles\, Hall &amp\; Oates\, Queen\, The Doobie Brothers\, Paul McCartney &amp\; Wings\, Peter Frampton\, Foreigner\, Kiss\, Boston and Journey as well as &ldquo\;Yacht Rock&rdquo\; favorites such as &ldquo\;Still the One&rdquo\; by Orleans and Pilot&rsquo\;s &ldquo\;Magic\,&rdquo\; your audience will fall in love with this epic decade of memorable music all over again.</div>\n\n<div>&nbsp\;</div>\n\n<div>It&rsquo\;s time to dust off your flared jeans\, break out the air guitar and take a trip back to the days when &quot\;Welcome Back Kotter&quot\; and &quot\;Happy Days&quot\; kept us glued to our televisions\, Gerald Ford and Jimmy Carter led our nation\, kids jumped Evil Kneivel toys over their Matchbox cars and these timeless songs became the soundtrack to our lives.</div>\n\n<div>&nbsp\;</div>\n\n<div>Ladies and gentlemen &hellip\; start your engines &hellip\; Super Trans AM is coming to Selbyville!</div>\n
LOCATION:Freeman Arts Pavilion 31806 Lakeview Drive Selbyville\, DE 19975
UID:e.2126.29302
SEQUENCE:3
DTSTAMP:20260420T090756Z
URL:http://business.thequietresorts.com/events/details/the-super-70s-concert-experience-featuring-super-trans-am-29302
END:VEVENT

END:VCALENDAR
