BEGIN:VCALENDAR
VERSION:2.0
PRODID:-//ChamberMaster//Event Calendar 2.0//EN
METHOD:PUBLISH
X-PUBLISHED-TTL:P3D
REFRESH-INTERVAL:P3D
CALSCALE:GREGORIAN
BEGIN:VEVENT
DTSTART:20240427T223000Z
DTEND:20240428T020000Z
X-MICROSOFT-CDO-ALLDAYEVENT:FALSE
SUMMARY:The Starry\, Starry Night Gala at Delaware Tech
DESCRIPTION:The Owens Campus is excited to host the annual Starry\, Starry Night Gala under the tent again this year!\n\n\n\n This outdoor event will be a night to remember featuring cocktails\, heavy hors d'oeuvres\, desserts\, and live music from Amsterdam\, a top-notch band with an all-star cast. Because this festive event is on the grass under a tent\, informal/casual attire is appropriate.\n\n\n\n It's a night you won't want to miss and a fun way to support Delaware Tech students.
X-ALT-DESC;FMTTYPE=text/html:<span style="color: rgb(102\, 102\, 102)\; font-family: Lato\, sans-serif\; font-size: 16px\;">The Owens Campus is excited to host the annual Starry\, Starry Night Gala under the tent again this year!</span><br style="color: rgb(102\, 102\, 102)\; font-family: Lato\, sans-serif\; font-size: 16px\;" />\n<br style="color: rgb(102\, 102\, 102)\; font-family: Lato\, sans-serif\; font-size: 16px\;" />\n<span style="color: rgb(102\, 102\, 102)\; font-family: Lato\, sans-serif\; font-size: 16px\;">&#8203\;This outdoor event will be a night to remember featuring cocktails\, heavy hors d&rsquo\;oeuvres\, desserts\, and live music from Amsterdam\, a top-notch band with an all-star cast. Because this festive event is on the grass under a tent\, informal/casual attire is appropriate.</span><br style="color: rgb(102\, 102\, 102)\; font-family: Lato\, sans-serif\; font-size: 16px\;" />\n<br style="color: rgb(102\, 102\, 102)\; font-family: Lato\, sans-serif\; font-size: 16px\;" />\n<span style="color: rgb(102\, 102\, 102)\; font-family: Lato\, sans-serif\; font-size: 16px\;">&#8203\;It&rsquo\;s a night you won&rsquo\;t want to miss and a fun way to support Delaware Tech students.&nbsp\;</span>
LOCATION:Delaware Technical Community College Owens Campus 21179 College Dr. Georgetown\, DE 19947
UID:e.2126.28436
SEQUENCE:3
DTSTAMP:20260420T060325Z
URL:http://business.thequietresorts.com/events/details/the-starry-starry-night-gala-at-delaware-tech-28436
END:VEVENT

END:VCALENDAR
