BEGIN:VCALENDAR
VERSION:2.0
PRODID:-//ChamberMaster//Event Calendar 2.0//EN
METHOD:PUBLISH
X-PUBLISHED-TTL:P3D
REFRESH-INTERVAL:P3D
CALSCALE:GREGORIAN
BEGIN:VEVENT
DTSTART:20200213T210000Z
DTEND:20200213T230000Z
X-MICROSOFT-CDO-ALLDAYEVENT:FALSE
SUMMARY:The Spa At All About U - GRAND OPENING & RIBBON CUTTING
DESCRIPTION:Join the staff of The Spa at All About U and the Bethany-Fenwick Area Chamber of Commerce for an Open House & Ribbon Cutting to celebrate their Grand Opening on Thursday February 13\, 2020  from 4:00 pm to 6:00 pm. Door Prizes\, light refreshments and appetizers will be served.
X-ALT-DESC;FMTTYPE=text/html:<span style="font-size: 14px\;"><span style="font-family: arial\;">Join the staff of The Spa at All About U and the Bethany-Fenwick Area Chamber of Commerce for an Open House &amp\; Ribbon Cutting to celebrate their Grand Opening on Thursday February 13\, 2020&nbsp\; from 4:00 pm to 6:00 pm. Door Prizes\, light refreshments and appetizers will be served.</span></span><br />\n<br />\n&nbsp\;
LOCATION:The Spa at All About U 35831 Atlantic Avenue Millville\, DE 19967
UID:e.2126.20053
SEQUENCE:3
DTSTAMP:20260426T003812Z
URL:http://business.thequietresorts.com/events/details/the-spa-at-all-about-u-grand-opening-ribbon-cutting-20053
END:VEVENT

END:VCALENDAR
