BEGIN:VCALENDAR
VERSION:2.0
PRODID:-//ChamberMaster//Event Calendar 2.0//EN
METHOD:PUBLISH
X-PUBLISHED-TTL:P3D
REFRESH-INTERVAL:P3D
CALSCALE:GREGORIAN
BEGIN:VEVENT
DTSTART:20221028T230000Z
DTEND:20221030T003000Z
X-MICROSOFT-CDO-ALLDAYEVENT:FALSE
SUMMARY:"THE SONGS OF LINDA RONSTADT" ELIZABETH WARD LAND
DESCRIPTION:Elizabeth Ward Land performs the award-winning tribute show\, Still Within the Sound of My Voice: The Songs of Linda Ronstadt. Touching on genres ranging from rock\, country\, folk\, light opera\, big band\, and mariachi\, Land traces her life to the songs from the Rock & Roll Hall of Famer's vast catalog\, including "You're No Good\," "Blue Bayou\," "Frenesi\," "Long Long Time" and more. Featuring music director David Libby on piano and The Dickens "Sound Choice" musicians. Elizabeth Ward Land's Broadway and Off-Broadway credits include Amazing Grace\, Scandalous\, The Scarlet Pimpernel\, Memphis\, Passion\, City of Angels\, The Music of Andrew Lloyd Webber starring Michael Crawford\, Southern Comfort\, Hello Again\, and Chess. She has been seen in regional theater\, starring roles at Pioneer Theatre Company\, GeVa\, TheatreWorks\, Barrington Stage\, Asolo Repertory\, Sacramento Music Circus\, Musical Theatre West\, MacHaydn\, The Old Globe\, The Alliance\, Pasadena Playhouse\, and more. Land has numerous film and television credits and has also appeared in concert at The Wilson Center\, The Overture Center\, the Long Beach Pops\, and the Mark Taper Forum. Her album First Harvest is available on iTunes\, Spotify\, and all streaming sites. She plays piano\, oboe\, percussion\, guitar\, and a little ukulele.
X-ALT-DESC;FMTTYPE=text/html:<span style="font-size:14px">Elizabeth Ward Land<span style="color:rgb(0\, 0\, 0)\; font-family:tahoma\,geneva\,sans-serif">&nbsp\;performs the award-winning tribute show\,&nbsp\;</span><em>Still Within the Sound of My Voice: The Songs of Linda Ronstadt<font color="#e60000">. </font></em>Touching<span style="color:rgb(0\, 0\, 0)\; font-family:tahoma\,geneva\,sans-serif">&nbsp\;on genres ranging from rock\, country\, folk\, light opera\, big band\, and mariachi\, Land traces her life to the songs from the Rock &amp\; Roll Hall of Famer&rsquo\;s vast catalog\, including &ldquo\;You&rsquo\;re No Good\,&rdquo\; &ldquo\;Blue Bayou\,&rdquo\; &ldquo\;Frenesi\,&rdquo\; &ldquo\;Long Long Time&rdquo\; and more. Featuring music director David Libby on piano and The Dickens &ldquo\;Sound Choice&rdquo\; musicians. Elizabeth Ward Land&rsquo\;s Broadway and Off-Broadway credits include&nbsp\;</span><em>Amazing Grace\, Scandalous\, The Scarlet Pimpernel\, Memphis\, Passion\, City of Angels\, The Music of Andrew Lloyd Webber<span style="color:rgb(0\, 0\, 0)\; font-family:tahoma\,geneva\,sans-serif">&nbsp\;starring Michael Crawford\,&nbsp\;</span>Southern Comfort\, Hello Again\,<span style="color:rgb(0\, 0\, 0)\; font-family:tahoma\,geneva\,sans-serif">&nbsp\;and&nbsp\;</span>Chess</em><span style="color:rgb(0\, 0\, 0)\; font-family:tahoma\,geneva\,sans-serif"><em>.</em> She has been seen in regional theater\, starring roles at Pioneer Theatre Company\, GeVa\, TheatreWorks\, Barrington Stage\, Asolo Repertory\, Sacramento Music Circus\, Musical Theatre West\, MacHaydn\, The Old Globe\, The Alliance\, Pasadena Playhouse\, and more. Land has numerous film and television credits and has also appeared in concert at The Wilson Center\, The Overture Center\, the Long Beach Pops\, and the Mark Taper Forum. Her album First Harvest is available on iTunes\, Spotify\, and all streaming sites. She plays piano\, oboe\, percussion\, guitar\, and a little ukulele.</span></span>
LOCATION:Dickens Parlour Theatre 31810 Good Earth Lane Ocean View\, DE 19970
UID:e.2126.24187
SEQUENCE:3
DTSTAMP:20260421T161356Z
URL:http://business.thequietresorts.com/events/details/the-songs-of-linda-ronstadt-elizabeth-ward-land-24187
END:VEVENT

END:VCALENDAR
