BEGIN:VCALENDAR
VERSION:2.0
PRODID:-//ChamberMaster//Event Calendar 2.0//EN
METHOD:PUBLISH
X-PUBLISHED-TTL:P3D
REFRESH-INTERVAL:P3D
CALSCALE:GREGORIAN
BEGIN:VEVENT
DTSTART:20230211T000000Z
DTEND:20230211T010000Z
X-MICROSOFT-CDO-ALLDAYEVENT:FALSE
SUMMARY:The Songs of Linda Ronstadt: Elizabeth Ward Land
DESCRIPTION:Elizabeth Ward Land performs the award-winning tribute show\, Still Within the Sound of My Voice: The Songs of Linda Ronstadt. This show features genres ranging from rock\, country\, folk\, light opera\, big band\, and mariachi. Land traces her life to the songs from the Rock & Roll Hall of Famer's vast catalog\, including "You're No Good\," "Blue Bayou\," "Frenesi\," "Long Long Time\," and more. Featuring music director David Libby on piano and The Dickens "Sound Choice" musicians. Elizabeth Ward Land's Broadway and Off-Broadway credits include Amazing Grace\, Scandalous\, The Scarlet Pimpernel\, Memphis\, Passion\, City of Angels\, The Music of Andrew Lloyd Webber starring Michael Crawford\, Southern Comfort\, Hello Again\, and Chess. She has been seen in regional theater starring roles at Pioneer Theatre Company\, GeVa\, TheatreWorks\, Barrington Stage\, Asolo Repertory\, Sacramento Music Circus\, Musical Theatre West\, MacHaydn\, The Old Globe\, The Alliance\, Pasadena Playhouse\, and more. Land has numerous film and television credits and has also appeared in concert at The Wilson Center\, The Overture Center\, the Long Beach Pops\, and the Mark Taper Forum. Her album First Harvest is available on iTunes\, Spotify\, and all streaming sites. She plays piano\, oboe\, percussion\, guitar\, and a little ukulele.\n\nMusic provided by David Libby on piano\, Jeff Cooper on bass\, and Ken Schleifer on drums.
X-ALT-DESC;FMTTYPE=text/html:<p><strong>Elizabeth Ward Land</strong>&nbsp\;performs the award-winning tribute show\,&nbsp\;<strong><em>Still Within the Sound of My Voice: The Songs of Linda Ronstadt. </em></strong>This show features genres ranging from rock\, country\, folk\, light opera\, big band\, and mariachi. Land traces her life to the songs from the Rock &amp\; Roll Hall of Famer&rsquo\;s vast catalog\, including &ldquo\;You&rsquo\;re No Good\,&rdquo\; &ldquo\;Blue Bayou\,&rdquo\; &ldquo\;Frenesi\,&rdquo\; &ldquo\;Long Long Time\,&rdquo\; and more. Featuring music director David Libby on piano and The Dickens &quot\;Sound Choice&quot\; musicians. Elizabeth Ward Land&rsquo\;s Broadway and Off-Broadway credits include&nbsp\;<em>Amazing Grace\, Scandalous\, The Scarlet Pimpernel\, Memphis\, Passion\, City of Angels\, The Music of Andrew Lloyd Webber</em>&nbsp\;starring Michael Crawford\,&nbsp\;<em>Southern Comfort\, Hello Again\,</em>&nbsp\;and&nbsp\;<em>Chess</em>. She has been seen in regional theater starring roles at Pioneer Theatre Company\, GeVa\, TheatreWorks\, Barrington Stage\, Asolo Repertory\, Sacramento Music Circus\, Musical Theatre West\, MacHaydn\, The Old Globe\, The Alliance\, Pasadena Playhouse\, and more. Land has numerous film and television credits and has also appeared in concert at The Wilson Center\, The Overture Center\, the Long Beach Pops\, and the Mark Taper Forum. Her album First Harvest is available on iTunes\, Spotify\, and all streaming sites. She plays piano\, oboe\, percussion\, guitar\, and a little ukulele.</p>\n\n<p>Music provided by David Libby on piano\, Jeff Cooper on bass\, and Ken <span style="color:rgb(36\, 36\, 36)">Schleifer</span> on drums.</p>\n
LOCATION:31810 Good Earth Lane Ocean View\, DE 19970
UID:e.2126.25156
SEQUENCE:3
DTSTAMP:20260421T075342Z
URL:http://business.thequietresorts.com/events/details/the-songs-of-linda-ronstadt-elizabeth-ward-land-02-10-2023-25156
END:VEVENT

END:VCALENDAR
