BEGIN:VCALENDAR
VERSION:2.0
PRODID:-//ChamberMaster//Event Calendar 2.0//EN
METHOD:PUBLISH
X-PUBLISHED-TTL:P3D
REFRESH-INTERVAL:P3D
CALSCALE:GREGORIAN
BEGIN:VEVENT
DTSTART:20221203T000000Z
DTEND:20221203T010000Z
X-MICROSOFT-CDO-ALLDAYEVENT:FALSE
SUMMARY:The Songbook of Julie Andrews
DESCRIPTION:Shana Farr brings her 5-star tribute show to Julie Andrews that has been performed all over the U.S. and in London. Inspired by the rich collection of lyrics and melodies that have become synonymous with Julie Andrews\, award-winning songstress Shana Farr weaves together an evening of songs that represent not only great American standards by Rodgers & Hammerstein\, Lerner & Loewe\, the Gershwins\, and the Sherman Brothers\, but also beautiful numbers by Henry Mancini\, Arthur Schwartz\, Jimmy van Heusen\, No l Coward and more.
X-ALT-DESC;FMTTYPE=text/html:<span style="color:rgb(0\, 0\, 0)\; font-family:tahoma\,geneva\,sans-serif\; font-size:14px">Shana Farr brings her 5-star tribute show to Julie Andrews that has been performed all over the U.S. and in London. Inspired by the rich collection of lyrics and melodies that have become synonymous with Julie Andrews\, award-winning songstress Shana Farr weaves together an evening of songs that represent not only great American standards by Rodgers &amp\; Hammerstein\, Lerner &amp\; Loewe\, the Gershwins\, and the Sherman Brothers\, but also beautiful numbers by Henry Mancini\, Arthur Schwartz\, Jimmy van Heusen\, No&euml\;l Coward and more.</span>
LOCATION:Dickens Parlour Theatre 31810 Good Earth Lane Ocean View\, DE 19970
UID:e.2126.24874
SEQUENCE:3
DTSTAMP:20260421T111934Z
URL:http://business.thequietresorts.com/events/details/the-songbook-of-julie-andrews-24874
END:VEVENT

END:VCALENDAR
