BEGIN:VCALENDAR
VERSION:2.0
PRODID:-//ChamberMaster//Event Calendar 2.0//EN
METHOD:PUBLISH
X-PUBLISHED-TTL:P3D
REFRESH-INTERVAL:P3D
CALSCALE:GREGORIAN
BEGIN:VEVENT
DTSTART:20240606T233000Z
DTEND:20240607T010000Z
X-MICROSOFT-CDO-ALLDAYEVENT:FALSE
SUMMARY:The Seaside Concert Series Presents The Dave Matthews Tribute Band at the Bethany Beach Bandstand
DESCRIPTION:Their name says it all: The Dave Matthews Tribute Band. For nearly 20 years\, the band has been performing sold out shows around the world\; playing over 1\,500 dates in 46 states and 8 countries. Many go to their live shows with reservations\, high expectations\, and the burning question\, "Do these guys sound like the real Dave Matthews Band?" Almost always the answer is\, "Yes!"\n\n\n\nSince 2004\, The DMTB is the only nationally touring tribute to the Dave Matthews Band. This 5-piece ensemble strives to pay homage to their famous counterparts by matching the excitement\, energy\, intensity and intimacy of a DMB live show.  While most fans never witnessed the real band before they became the platinum-selling artists they are today\, The Dave Matthews Tribute Band prides itself on giving audiences this opportunity at intimate venues around the world.  Beyond mastering the DMB sound and the relentless touring\, what separates The Dave Matthews Tribute Band from other cover bands is their passion\, love\, and respect for DMB and their music. That is what makes you come out of one of their shows saying\, "Yeah\, they really do sound like the real Dave Matthews Band."\nFor more details\, please visit www.townofbethanybeach.com\, under Activities and Bandstand.
X-ALT-DESC;FMTTYPE=text/html:<span style="font-size:12px"><span style="font-family:arial\,helvetica\,sans-serif">Their name says it all: The Dave Matthews Tribute Band. For nearly 20 years\, the band has been performing sold out shows around the world\; playing over 1\,500 dates in 46 states and 8 countries. Many go to their live shows with reservations\, high expectations\, and the burning question\, &ldquo\;Do these guys sound like the real Dave Matthews Band?&rdquo\; Almost always the answer is\, &ldquo\;Yes!&rdquo\;<br />\n<br />\nSince 2004\, The DMTB is the only nationally touring tribute to the Dave Matthews Band. This 5-piece ensemble strives to pay homage to their famous counterparts by matching the excitement\, energy\, intensity and intimacy of a DMB live show. &nbsp\;While most fans never witnessed the real band before they became the platinum-selling artists they are today\, The Dave Matthews Tribute Band prides itself on giving audiences this opportunity at intimate venues around the world. &nbsp\;Beyond mastering the DMB sound and the relentless touring\, what separates The Dave Matthews Tribute Band from other cover bands is their passion\, love\, and respect for DMB and their music. That is what makes you come out of one of their shows saying\, &ldquo\;Yeah\, they really do sound like the real Dave Matthews Band.&rdquo\;</span></span>\n<p><span style="font-size:12px"><span style="font-family:aptos\,sans-serif">For more details\, please visit&nbsp\;<a href="http://www.townofbethanybeach.com/?fbclid=IwAR3DNfSWowBb17Z60m-fPCqThBnunET9xbu-KXO3EQ4SADgd8GWPcP7WU_M" style="color:rgb(17\, 85\, 204)\;" target="_blank"><span style="color:blue">www.townofbethanybeach.com</span></a>\, under Activities and Bandstand.&nbsp\;</span></span></p>\n
LOCATION:Bethany Beach Bandstand Garfield Parkway\, Bethany Beach DE Boardwalk\, Bethany Beach\, DE 19930
UID:e.2126.29229
SEQUENCE:3
DTSTAMP:20260420T091755Z
URL:http://business.thequietresorts.com/events/details/the-seaside-concert-series-presents-the-dave-matthews-tribute-band-at-the-bethany-beach-bandstand-29229
END:VEVENT

END:VCALENDAR
