BEGIN:VCALENDAR
VERSION:2.0
PRODID:-//ChamberMaster//Event Calendar 2.0//EN
METHOD:PUBLISH
X-PUBLISHED-TTL:P3D
REFRESH-INTERVAL:P3D
CALSCALE:GREGORIAN
BEGIN:VEVENT
DTSTART:20240620T233000Z
DTEND:20240621T010000Z
X-MICROSOFT-CDO-ALLDAYEVENT:FALSE
SUMMARY:The Seaside Concert Series Presents Ronstadt Revue featuring Gesenia at the Bethany Beach Bandstand
DESCRIPTION:Linda Ronstadt\, 11-time Grammy winner who sold over 100 million albums during her 40+ year career is no longer performing publicly. Yet millions of her devoted fans still long to hear the beloved songs that made up the soundtrack of their lives. And there are so many! From "When Will I be Loved?" to "You're No Good"\, "Blue Bayou"\, "Perfidia"\, "Just One Look"\, "Hay Unos Ojos"\, "Desperado"\, and so many more.  Fortunately\, her incredible musical legacy now lives on through the jaw-dropping talents of Gesenia and her Ronstadt Revue. Since their founding in 2017\, the group has brought their Celebration of Linda Ronstadt to packed theaters and performing arts centers across the United States. Every Ronstadt Revue show\, performed in painstaking detail in both English and Spanish\, spans many of the musical genres of Ms. Ronstadt's career\, including pop\, rock\, country\, Motown\, and Great American Songbook standards\, as well as Spanish language hits (sung with native fluency by Gesenia\, who is Latina). And Gesenia doesn't just "sing" Ronstadt's tunes\; she positively channels and inhabits each song in a way that only Linda herself has ever done before\, bringing the audience to tears and to their feet in multiple ovations throughout the show.\n\n\n\nThe band has garnered accolades from several members of Ms. Ronstadt's own touring bands\, including Dan Dugmore\, Herb Steiner and John Beland. In fact\, Mr. Beland (also renowned as one of the legendary Flying Burrito Brothers)\, even tours with the band at select shows across the country. Beland says\, "Whenever I listen to Ronstadt Revue\, I'm immediately catapulted back to that stage I shared with Linda so many years ago. There are tribute bands and then there is this. Don't miss it!" Both he and Mr. Dugmore (Ms. Ronstadt's longtime steel guitarist) have produced tracks for\, and are also featured on\, the band's latest album (which also includes contributions from Linda's nephew\, the noted cellist\, Michael G. Ronstadt). The fact that these musicians have allied themselves professionally with Ronstadt Revue speaks volumes.
X-ALT-DESC;FMTTYPE=text/html:<p>Linda Ronstadt\, 11-time Grammy winner who sold over 100 million albums during her 40+ year career is no longer performing publicly. Yet millions of her devoted fans still long to hear the beloved songs that made up the soundtrack of their lives. And there are so many! From&nbsp\;<em>&ldquo\;When Will I be Loved?&rdquo\;</em>&nbsp\;to&nbsp\;<em>&ldquo\;You&rsquo\;re No Good&rdquo\;\, &ldquo\;Blue Bayou&rdquo\;\, &ldquo\;Perfidia&rdquo\;\, &ldquo\;Just One Look&rdquo\;\, &ldquo\;Hay Unos Ojos&rdquo\;\, &ldquo\;Desperado&rdquo\;\,</em>&nbsp\;and so many more. &nbsp\;Fortunately\, her incredible musical legacy now lives on through the jaw-dropping talents of Gesenia and her Ronstadt Revue. Since their founding in 2017\, the group has brought their&nbsp\;<em>Celebration of Linda Ronstadt&nbsp\;</em>to packed theaters and performing arts centers across the United States. Every Ronstadt Revue show\, performed in painstaking detail in both English and Spanish\, spans many of the musical genres of Ms. Ronstadt&rsquo\;s career\, including pop\, rock\, country\, Motown\, and Great American Songbook standards\, as well as Spanish language hits (sung with native fluency by Gesenia\, who is Latina). And Gesenia doesn&#39\;t just &quot\;sing&quot\; Ronstadt&#39\;s tunes\; she positively channels and inhabits each song in a way that only Linda herself has ever done before\, bringing the audience to tears and to their feet in multiple ovations throughout the show.<br />\n<br />\nThe band has garnered accolades from several members of Ms. Ronstadt&rsquo\;s own touring bands\, including Dan Dugmore\, Herb Steiner and John Beland. In fact\, Mr. Beland (also renowned as one of the legendary&nbsp\;<em>Flying Burrito Brothers</em>)\, even tours with the band at select shows across the country. Beland says\,&nbsp\;<em>&ldquo\;Whenever I listen to Ronstadt Revue\, I&#39\;m immediately catapulted back to that stage I shared with Linda so many years ago. There are tribute bands and then there is this. Don&rsquo\;t miss it!&quot\;</em>&nbsp\;Both he and Mr. Dugmore (Ms. Ronstadt&rsquo\;s longtime steel guitarist) have produced tracks for\, and are also featured on\, the band&rsquo\;s latest album (which also includes contributions from Linda&rsquo\;s nephew\, the noted cellist\, Michael G. Ronstadt). The fact that these musicians have allied themselves professionally with Ronstadt Revue speaks volumes.&nbsp\;</p>\n
LOCATION:Bethany Beach Bandstand Garfield Parkway\, Bethany Beach DE Boardwalk\, Bethany Beach\, DE 19930
UID:e.2126.29231
SEQUENCE:3
DTSTAMP:20260420T091817Z
URL:http://business.thequietresorts.com/events/details/the-seaside-concert-series-presents-ronstadt-revue-featuring-gesenia-at-the-bethany-beach-bandstand-29231
END:VEVENT

END:VCALENDAR
