BEGIN:VCALENDAR
VERSION:2.0
PRODID:-//ChamberMaster//Event Calendar 2.0//EN
METHOD:PUBLISH
X-PUBLISHED-TTL:P3D
REFRESH-INTERVAL:P3D
CALSCALE:GREGORIAN
BEGIN:VEVENT
DTSTART:20240627T233000Z
DTEND:20240628T010000Z
X-MICROSOFT-CDO-ALLDAYEVENT:FALSE
SUMMARY:The Seaside Concert Series Presents Hathway Brothers at the Bethany Beach Bandstand
DESCRIPTION:Formed in October 2016\, the Hathway Brothers are made up of biological siblings Joe\, Jude\, James\, and Tim Hathway. The brothers each play multiple instruments and use three and four-part harmonies to create the perfect blend of old rock and new pop.\n\nBased in the DC area\, they have a storied history of live performances and professional recording sessions. This popular rockin' band of young brothers will bring you back to your favorite tunes from the 60's to the 90's\, and perform some of their own catchy hits from their debut album\, Sounds From the Basement. Their second album is currently in the works.
X-ALT-DESC;FMTTYPE=text/html:<p>Formed in October 2016\, the Hathway Brothers are made up of&nbsp\;biological siblings Joe\, Jude\, James\, and Tim Hathway. The brothers each play multiple instruments and use three and four-part harmonies to create&nbsp\;the perfect blend of old rock and new pop.</p>\n\n<p>Based in the DC area\, they have a storied history of live performances and professional recording sessions. This popular rockin&rsquo\; band of young brothers will bring you back to your favorite tunes from the 60&rsquo\;s to the 90&rsquo\;s\, and perform some of their own catchy hits from their debut album\,&nbsp\;<strong>Sounds From the&nbsp\;</strong><strong>Basement</strong>.&nbsp\;Their second album is currently in the works.</p>\n
LOCATION:Bethany Beach Bandstand Garfield Parkway\, Bethany Beach DE Boardwalk\, Bethany Beach\, DE 19930
UID:e.2126.29232
SEQUENCE:3
DTSTAMP:20260420T091519Z
URL:http://business.thequietresorts.com/events/details/the-seaside-concert-series-presents-hathway-brothers-at-the-bethany-beach-bandstand-29232
END:VEVENT

END:VCALENDAR
