BEGIN:VCALENDAR
VERSION:2.0
PRODID:-//ChamberMaster//Event Calendar 2.0//EN
METHOD:PUBLISH
X-PUBLISHED-TTL:P3D
REFRESH-INTERVAL:P3D
CALSCALE:GREGORIAN
BEGIN:VEVENT
DTSTART:20240613T233000Z
DTEND:20240614T010000Z
X-MICROSOFT-CDO-ALLDAYEVENT:FALSE
SUMMARY:The Seaside Concert Series Presents Cellofest at the Bethany Beach Bandstand
DESCRIPTION:Experience the first-ever Bethany Beach Cellofest.  Presented by the Cello Museum\, cellists will perform a mix of classical\, folk\, and popular tunes on the boardwalk. This event features both ensemble and solo cello performances\, showcasing the instrument's range and versatility. Join us for a memorable evening of diverse music at this new addition to Bethany Beach's cultural scene.\n\n\n\n\n\n\nSolo Cellist: Jennifer Kloetzel \n\nA graduate of The Juilliard School and a Fulbright Scholar\, cellist Jennifer Kloetzel has concertized throughout the United States\, Europe\, and Asia as a soloist and chamber musician. A founding member of the San Francisco-based Cypress String Quartet (1996-2016) and QuartetES\, Jennifer has toured the globe and performed at such renowned venues as Lincoln Center\, The Kennedy Center\, the Chautauqua Institute and the Ravinia Festival\, the Lobkowicz Palaces in both Vienna and Prague\, as well as prominent colleges and conservatories worldwide.\n\n\n\n\n\n\n\n\n\n\n\nErica Lessie\n\nErica Lessie is a freelance cellist in the Chicago area\, working in a broad range of styles across many facets of the Chicago music scene. Erica has performed on the Oprah Winfrey show with both Whitney Houston and Seal\, and has also appeared with Diana Krall\, Andrea Bocelli\, Peter Cetera\, the Four Tops and Johnny Mathis. She is an auxiliary member of the rock band Tributosaurus and co-founder of Cherchez la Femme\, a musical ensemble dedicated to presenting the arts expressed by women across the millennium. Ms. Lessie also developed Cellos of Unusual Shape\, a solo presentation that explores the diversity of variant cellos.\n\n\n\n\n\n\n\n\n\n\n\nBrenda Neece \n\nCello Museum founder and curator\, Dr. Brenda Neece\, DPhil (Oxon.)\, is a cellist and a researcher specializing in the history of the cello. Before starting The Cello Museum in the autumn of 2019\, she worked as a freelancer and served for just over a decade as the first curator of the musical instrument collections at Duke University. In addition to playing the cello\, doing cello research\, and writing about cellos\, she enjoys experimenting with variant cellos. In addition to her modern instrument\, she also plays a 5-string baroque cello\, a small 5-string cello\, and sometimes travels with her folding prakticello.
X-ALT-DESC;FMTTYPE=text/html:<p><span style="font-size:12px"><span style="font-family:arial\,helvetica\,sans-serif"><big><span style="background-color:rgba(255\, 255\, 255\, 0.95)\; color:rgb(68\, 68\, 68)">Experience the first-ever Bethany Beach Cellofest. &nbsp\;Presented by the Cello Museum\, cellists will perform a mix of classical\, folk\, and popular tunes on the boardwalk. This event features both ensemble and solo cello performances\, showcasing the instrument&#39\;s range and versatility. Join us for a memorable evening of diverse music at this new addition to Bethany Beach&#39\;s cultural scene.</span></big></span></span></p>\n\n<div>\n<div>\n<div>\n<div>\n<div>\n<p><span style="font-size:12px"><span style="font-family:arial\,helvetica\,sans-serif"><big>Solo Cellist: Jennifer Kloetzel&nbsp\;</big></span></span></p>\n\n<p><span style="font-size:12px"><span style="font-family:arial\,helvetica\,sans-serif"><big>A graduate of The Juilliard School and a Fulbright Scholar\, cellist Jennifer Kloetzel has concertized throughout the United States\, Europe\, and Asia as a soloist and chamber musician. A founding member of the San Francisco-based Cypress String Quartet (1996-2016) and QuartetES\, Jennifer has toured the globe and performed at such renowned venues as Lincoln Center\, The Kennedy Center\, the Chautauqua Institute and the Ravinia Festival\, the Lobkowicz Palaces in both Vienna and Prague\, as well as prominent colleges and conservatories worldwide.</big></span></span></p>\n</div>\n</div>\n</div>\n</div>\n</div>\n\n<div>\n<div>\n<div>\n<div>\n<div>\n<p><span style="font-size:12px"><span style="font-family:arial\,helvetica\,sans-serif"><big>Erica Lessie</big></span></span></p>\n\n<p><span style="font-size:12px"><span style="font-family:arial\,helvetica\,sans-serif"><big>Erica Lessie is a freelance cellist in the Chicago area\, working in a broad range of styles across many facets of the Chicago music scene. Erica has performed on the Oprah Winfrey show with both Whitney Houston and Seal\, and has also appeared with Diana Krall\, Andrea Bocelli\, Peter Cetera\, the Four Tops and Johnny Mathis. She is an auxiliary member of the rock band Tributosaurus and co-founder of Cherchez la Femme\, a musical ensemble dedicated to presenting the arts expressed by women across the millennium. Ms. Lessie also developed Cellos of Unusual Shape\, a solo presentation that explores the diversity of variant cellos.</big></span></span></p>\n</div>\n</div>\n</div>\n</div>\n</div>\n\n<div>\n<div>\n<div>\n<div>\n<div>\n<p><span style="font-size:12px"><span style="font-family:arial\,helvetica\,sans-serif"><big>Brenda Neece&nbsp\;</big></span></span></p>\n\n<p><span style="font-size:12px"><span style="font-family:arial\,helvetica\,sans-serif"><big>Cello Museum founder and curator\, Dr. Brenda Neece\, DPhil (Oxon.)\, is a cellist and a researcher specializing in the history of the cello. Before starting The Cello Museum in the autumn of 2019\, she worked as a freelancer and served for just over a decade as the first curator of the musical instrument collections at Duke University. In addition to playing the cello\, doing cello research\, and writing about cellos\, she enjoys experimenting with variant cellos. In addition to her modern instrument\, she also plays a 5-string baroque cello\, a small 5-string cello\, and sometimes travels with her folding prakticello.</big></span></span></p>\n</div>\n</div>\n</div>\n</div>\n</div>\n
LOCATION:Bethany Beach Bandstand Garfield Parkway\, Bethany Beach DE Boardwalk\, Bethany Beach\, DE 19930
UID:e.2126.29230
SEQUENCE:3
DTSTAMP:20260420T091602Z
URL:http://business.thequietresorts.com/events/details/the-seaside-concert-series-presents-cellofest-at-the-bethany-beach-bandstand-29230
END:VEVENT

END:VCALENDAR
