BEGIN:VCALENDAR
VERSION:2.0
PRODID:-//ChamberMaster//Event Calendar 2.0//EN
METHOD:PUBLISH
X-PUBLISHED-TTL:P3D
REFRESH-INTERVAL:P3D
CALSCALE:GREGORIAN
BEGIN:VEVENT
DTSTART:20230918T160000Z
DTEND:20231119T010000Z
X-MICROSOFT-CDO-ALLDAYEVENT:FALSE
SUMMARY:The Salted Rim Pig Roast & Yeti Cooler Raffle to Benefit the Millville Volunteer Fire Co.
DESCRIPTION:RAFFLE TICKETS AND MEALS AVAILABLE FOR PURCHASE AT THE EVENT! ONLINE REGISTRATION CLOSED!\n\n\n\n\n\nPIG ROAST\n\nCome out to The Salted Rim on Saturday\, November 18th\, for a pig roast benefitting the Millville Volunteer Fire Company!  There are both dine-in and carry-out options available\, from 4:00PM - 8:00PM.  \n\n	Pulled Pork Platter: $20\; includes pulled pork\, baked beans\, coleslaw\, green beans\, & cornbread.\n	Pulled Pork Sandwich: $15\; includes pulled pork sandwich\, coleslaw\, & chips.\n\nThere are two timeslots for dine-in\, 4:00PM - 6:00PM and 6:00PM - 8:00PM.  Drinks will be available for purchase onsite!  Parking will be available at The Salted Rim and Millville VFC.  \n\n\n\nStick around after dinner for the Bad Avenue Band starting at 8:00PM!\n\n\n\nTO BUY A PIG ROAST TICKET\, CLICK THE REGISTER BUTTON AT THE TOP OF THIS PAGE AND CHOOSE 'NOT A MEMBER!'\n\n\n\nYETI COOLER RAFFLE\n\nMillville Volunteer Fire Company will be raffling off a First Responders Red Yeti stocked with alcohol\, with a value over $750\, to one lucky winner on November 18th!  Tickets are $5/ea. and benefit the Millville VFC.  Tickets will be onsale September 1 - November 16\, 2023. \n\n\n\nTO BUY A RAFFLE TICKET\, CLICK THE REGISTER BUTTON AT THE TOP OF THIS PAGE AND CHOOSE 'NOT A MEMBER!'
X-ALT-DESC;FMTTYPE=text/html:<strong style=""><span style="color:#FF0000\;"><span style="font-size: 18px\;">RAFFLE TICKETS AND MEALS AVAILABLE FOR PURCHASE AT THE EVENT! ONLINE REGISTRATION CLOSED!</span></span></strong><br />\n<br />\n<br />\n<u><strong style=""><span style="font-size: 14px\;">PIG ROAST</span></strong></u><br />\nCome out to The Salted Rim on Saturday\, November 18th\, for a pig roast benefitting the Millville Volunteer Fire Company!&nbsp\; There are both dine-in and carry-out options available\, from 4:00PM - 8:00PM.&nbsp\;&nbsp\;\n<ul>\n	<li><strong>Pulled Pork Platter: $20</strong>\; includes pulled pork\, baked beans\, coleslaw\, green beans\, &amp\; cornbread.</li>\n	<li><strong>Pulled Pork Sandwich: $15</strong>\; includes pulled pork sandwich\, coleslaw\, &amp\; chips.</li>\n</ul>\nThere are two timeslots for dine-in\, 4:00PM - 6:00PM and 6:00PM - 8:00PM.&nbsp\; Drinks will be available for purchase onsite!&nbsp\; <strong>Parking will be available at The Salted Rim and Millville VFC.&nbsp\;</strong>&nbsp\;<br />\n<br />\n<strong>Stick around after dinner for the Bad Avenue Band starting at 8:00PM!</strong><br />\n<br />\n<strong style="color: rgb(0\, 128\, 0)\;">TO BUY A PIG ROAST TICKET\, CLICK THE REGISTER BUTTON AT THE TOP OF THIS PAGE AND CHOOSE &#39\;NOT A MEMBER!&#39\;</strong><br />\n<br />\n<strong><span style="font-size:14px\;"><u>YETI COOLER RAFFLE</u></span></strong><br />\nMillville Volunteer Fire Company will be raffling off a <strong>First Responders Red Yeti stocked with alcohol\, with a value over $750\,</strong>&nbsp\;to one lucky winner on November 18th!&nbsp\; Tickets are $5/ea. and benefit the Millville VFC.&nbsp\; <strong>Tickets will be onsale September 1 - November 16\, 2023.&nbsp\;</strong><br />\n<br />\n<span style="color:#008000\;"><strong>TO BUY A RAFFLE TICKET\, CLICK THE REGISTER BUTTON AT THE TOP OF THIS PAGE AND CHOOSE &#39\;NOT A MEMBER!&#39\;</strong></span>
LOCATION:The Salted Rim Margarita Bar & Grille 35553 Atlantic Ave. Millville\, DE 19967
UID:e.2126.26656
SEQUENCE:3
DTSTAMP:20260420T170334Z
URL:http://business.thequietresorts.com/events/details/the-salted-rim-pig-roast-yeti-cooler-raffle-to-benefit-the-millville-volunteer-fire-co-26656
END:VEVENT

END:VCALENDAR
