BEGIN:VCALENDAR
VERSION:2.0
PRODID:-//ChamberMaster//Event Calendar 2.0//EN
METHOD:PUBLISH
X-PUBLISHED-TTL:P3D
REFRESH-INTERVAL:P3D
CALSCALE:GREGORIAN
BEGIN:VEVENT
DTSTART:20230713T233000Z
DTEND:20230714T010000Z
X-MICROSOFT-CDO-ALLDAYEVENT:FALSE
SUMMARY:The Rock Orchestra
DESCRIPTION:Eagles Tribute. The Rock Orchestra is the Delaware Valley's premier tribute group. Its goal is to present recreations of studio recordings by classic artists live on stage - either performing career retrospectives\, or a series of complete albums performed live. Utilizing an incredible talent pool of local musicians and priding itself on note-for-note recreations of selected works by various artists in the rock realm\, TRO provides a live experience like no other.
X-ALT-DESC;FMTTYPE=text/html:<p><strong><em>Eagles Tribute</em></strong>. The Rock Orchestra is the Delaware Valley&#39\;s premier tribute group. Its goal is to present recreations of studio recordings by classic artists live on stage - either performing career retrospectives\, or a series of complete albums performed live. Utilizing an incredible talent pool of local musicians and priding itself on note-for-note recreations of selected works by various artists in the rock realm\, TRO provides a live experience like no other.&nbsp\;</p>\n
LOCATION:Bethany Beach Bandstand
UID:e.2126.26000
SEQUENCE:3
DTSTAMP:20260420T230308Z
URL:http://business.thequietresorts.com/events/details/the-rock-orchestra-26000
END:VEVENT

END:VCALENDAR
