BEGIN:VCALENDAR
VERSION:2.0
PRODID:-//ChamberMaster//Event Calendar 2.0//EN
METHOD:PUBLISH
X-PUBLISHED-TTL:P3D
REFRESH-INTERVAL:P3D
CALSCALE:GREGORIAN
BEGIN:VEVENT
DTSTART:20230818T230000Z
DTEND:20230819T020000Z
X-MICROSOFT-CDO-ALLDAYEVENT:FALSE
SUMMARY:The Righteous Brothers
DESCRIPTION:TICKETS RANGE FROM $39-$64\n\nBlue-eyed soul pioneers The Righteous Brothers are back! With a string of #1 classics\, including the most played song in radio history\, You've Lost That Lovin' Feelin'\, the Rock and Roll Hall of Fame duo of Bill Medley and Bobby Hatfield topped the charts in four decades. After Bobby's death in 2003\, Bill Medley continued to perform to sold-out crowds around the world\, but fans and friends pleaded with him to keep The Righteous Brothers alive.\n\nThe Bill Medley/Bucky Heard pairing came as something of a happy accident. Medley says it just seemed right\, "He fits The Righteous Brothers live performance show perfectly. And\, we've even recorded some new material together\, I'm really excited!"\n\nBill Medley is truly one of the iconic figures in American music history. His instantly recognizable baritone voice has anchored some of the biggest recordings of all time. He's won a Grammy\, an Oscar\, a Golden Globe\, and an American Music Award. Always active and stretching his creative talents\, Medley has also sung on the soundtracks or performed the theme songs for 33 movies and TV shows and\, in 2014\, released his memoir\, The Time of My Life\, published by Da Capo Press. \n\nBucky Heard is an Alabama native and Auburn University alum. He's been one of the most popular and versatile performers in America for several years\, headlining countless shows in major venues. His reputation as a gutsy rock and roll singer\, with an incredible vocal range\, has garnered much critical praise and a legion of fans.
X-ALT-DESC;FMTTYPE=text/html:<h6>TICKETS RANGE FROM $39-$64</h6>\n\n<p>Blue-eyed soul pioneers The Righteous Brothers are back! With a string of #1 classics\, including the most played song in radio history\, You&rsquo\;ve Lost That Lovin&rsquo\; Feelin&rsquo\;\, the Rock and Roll Hall of Fame duo of Bill Medley and Bobby Hatfield topped the charts in four decades. After Bobby&rsquo\;s death in 2003\, Bill Medley continued to perform to sold-out crowds around the world\, but fans and friends pleaded with him to keep The Righteous Brothers alive.</p>\n\n<p>The Bill Medley/Bucky Heard pairing came as something of a happy accident. Medley says it just seemed right\, &ldquo\;He fits The Righteous Brothers live performance show perfectly. And\, we&rsquo\;ve even recorded some new material together\, I&rsquo\;m really excited!&rdquo\;</p>\n\n<p>Bill Medley is truly one of the iconic figures in American music history. His instantly recognizable baritone voice has anchored some of the biggest recordings of all time. He&rsquo\;s won a Grammy\, an Oscar\, a Golden Globe\, and an American Music Award. Always active and stretching his creative talents\, Medley has also sung on the soundtracks or performed the theme songs for 33 movies and TV shows and\, in 2014\, released his memoir\, The Time of My Life\, published by Da Capo Press.&nbsp\;</p>\n\n<p>Bucky Heard is an Alabama native and Auburn University alum. He&rsquo\;s been one of the most popular and versatile performers in America for several years\, headlining countless shows in major venues. His reputation as a gutsy rock and roll singer\, with an incredible vocal range\, has garnered much critical praise and a legion of fans.</p>\n
LOCATION:Freeman Arts Pavilion a program of the Joshua M. Freeman Foundation is a champion of the arts on Delmarva\, providing diverse arts performances as well as arts access programs for local schools and the community at large. From June-September the Freeman Arts Pavilion is an open-air performance space showcasing music\, dance\, comedy\, theater\, children's programs\, and free events.
UID:e.2126.26126
SEQUENCE:3
DTSTAMP:20260420T212503Z
URL:http://business.thequietresorts.com/events/details/the-righteous-brothers-26126
END:VEVENT

END:VCALENDAR
