BEGIN:VCALENDAR
VERSION:2.0
PRODID:-//ChamberMaster//Event Calendar 2.0//EN
METHOD:PUBLISH
X-PUBLISHED-TTL:P3D
REFRESH-INTERVAL:P3D
CALSCALE:GREGORIAN
BEGIN:VEVENT
DTSTART:20211128T180000Z
DTEND:20211128T210000Z
X-MICROSOFT-CDO-ALLDAYEVENT:FALSE
SUMMARY:The Real McCoy Group\, Coldwell Banker
DESCRIPTION:The Ribbon Cutting event will take place at The Real McCoy Group\, Coldwell Banker location in Bethany Beach on Sunday\, November 28th from 1:00 pm-400pm. There will be letters from Santa\, cupcakes from Flour & Flower and beverages from the Hitched Hot Cocoa Truck. \n\nRibbon Cutting at 2:00 pm.
X-ALT-DESC;FMTTYPE=text/html:<span style="color:black\;"><span style="font-size:12.0pt\;">The Ribbon Cutting event will take place at The Real McCoy Group\, Coldwell Banker location in Bethany Beach on Sunday\, November 28th from 1:00 pm-400pm. There will be letters from Santa\, cupcakes from Flour &amp\; Flower and beverages from the Hitched Hot Cocoa Truck.&nbsp\;<br />\nRibbon Cutting at 2:00 pm.</span></span>
LOCATION:The Real McCoy Group\, Coldwell Banker 33000 Coastal Hwy\, Suite 2 & 3 Bethany Beach\, DE 19930
UID:e.2126.23099
SEQUENCE:3
DTSTAMP:20260424T102450Z
URL:http://business.thequietresorts.com/events/details/the-real-mccoy-group-coldwell-banker-23099
END:VEVENT

END:VCALENDAR
