BEGIN:VCALENDAR
VERSION:2.0
PRODID:-//ChamberMaster//Event Calendar 2.0//EN
METHOD:PUBLISH
X-PUBLISHED-TTL:P3D
REFRESH-INTERVAL:P3D
CALSCALE:GREGORIAN
BEGIN:VEVENT
DTSTART:20221007T230000Z
DTEND:20221009T003000Z
X-MICROSOFT-CDO-ALLDAYEVENT:FALSE
SUMMARY:The Razzle Dazzle of Chicago the Musical
DESCRIPTION:Original co-star in Broadway's longest running American musical and hailed by Luciano Pavarotti as "Excellent!" David Sabella celebrates CHICAGO\, and the music of Kander & Ebb in story and song\, giving the audience a behind-the-scenes look at the creation of this theatrical and global phenomenon\, starring the legendary Ann Reinking\, Bebe Neuwirth\, Joel Grey\, James Naughton\, Marcia Lewis\, and Sabella himself\, in the surprising role of "Mary Sunshine." Using the music and lyrics of John Kander and Fred Ebb (Cabaret\, CHICAGO\, Kiss of the Spiderwoman)\, Sabella narrates his time in the show from day 1\, working with stars like Chita Rivera\, Melanie Griffith\, Brent Barrett\, Patrick Swayze\, and more. And as one of the first gay men in America to legally wed and adopt children\, Sabella takes us on a personal and deeply moving journey\, the ultimate challenge of fostering five children while performing on Broadway and around the world.
X-ALT-DESC;FMTTYPE=text/html:<span style="color:rgb(0\, 0\, 0)\; font-family:tahoma\,geneva\,sans-serif\; font-size:14px">Original co-star in Broadway&rsquo\;s longest running American musical and hailed by Luciano Pavarotti as &ldquo\;Excellent!&rdquo\; David Sabella celebrates&nbsp\;</span><span style="color:rgb(0\, 0\, 0)\; font-family:tahoma\,geneva\,sans-serif\; font-size:14px">CHICAGO</span><span style="color:rgb(0\, 0\, 0)\; font-family:tahoma\,geneva\,sans-serif\; font-size:14px">\, and the music of Kander &amp\; Ebb in story and song\, giving the audience a behind-the-scenes look at the creation of this theatrical and global phenomenon\, starring the legendary Ann Reinking\, Bebe Neuwirth\, Joel Grey\, James Naughton\, Marcia Lewis\, and Sabella himself\, in the surprising role of &ldquo\;Mary Sunshine.&rdquo\; Using the music and lyrics of John Kander and Fred Ebb (Cabaret\,&nbsp\;</span><span style="color:rgb(0\, 0\, 0)\; font-family:tahoma\,geneva\,sans-serif\; font-size:14px">CHICAGO</span><span style="color:rgb(0\, 0\, 0)\; font-family:tahoma\,geneva\,sans-serif\; font-size:14px">\, Kiss of the Spiderwoman)\, Sabella narrates his time in the show from day 1\, working with stars like Chita Rivera\, Melanie Griffith\, Brent Barrett\, Patrick Swayze\, and more. And as one of the first gay men in America to legally wed and adopt children\, Sabella takes us on a personal and deeply moving journey\, the ultimate challenge of fostering five children while performing on Broadway and around the world.</span>
LOCATION:Dickens Parlour Theatre 31810 Good Earth Lane Ocean View\, DE 19970
UID:e.2126.24184
SEQUENCE:3
DTSTAMP:20260421T160858Z
URL:http://business.thequietresorts.com/events/details/the-razzle-dazzle-of-chicago-the-musical-24184
END:VEVENT

END:VCALENDAR
