BEGIN:VCALENDAR
VERSION:2.0
PRODID:-//ChamberMaster//Event Calendar 2.0//EN
METHOD:PUBLISH
X-PUBLISHED-TTL:P3D
REFRESH-INTERVAL:P3D
CALSCALE:GREGORIAN
BEGIN:VEVENT
DTSTART:20230620T230000Z
DTEND:20230621T010000Z
X-MICROSOFT-CDO-ALLDAYEVENT:FALSE
SUMMARY:The Principles of Hip Hop: Celebrating 50 Years
DESCRIPTION:ADMISSION: FREE\n\nThe American art form of Hip Hop has a deeply rich history with roots that stretch across the globe. This show presents the multi-cultural story of Hip Hop's creation\, the various art forms and dance styles birthed by the movement and how the arts have the power to change our world. Professional artists proficient in dance styles like popping\, locking\, KRUMP\, breaking and of course Hip Hop will take the stage to showcase their dynamic styles alongside music from the '70s\,'80s\, '90s and today. Hip Hop Fundamentals will employ a host of activities including call & response\, storytelling\, audience participation and a live DJ to tell the story of Hip Hop's journey.
X-ALT-DESC;FMTTYPE=text/html:<h6>ADMISSION: FREE</h6>\n\n<p>The American art form of Hip Hop has a deeply rich history with roots that stretch across the globe. This show presents the multi-cultural story of Hip Hop&#39\;s creation\, the various art forms and dance styles birthed by the movement and how the arts have the power to change our world. Professional artists proficient in dance styles like popping\, locking\, KRUMP\, breaking and of course Hip Hop will take the stage to showcase their dynamic styles alongside music from the &#39\;70s\,&#39\;80s\, &#39\;90s and today. Hip Hop Fundamentals will employ a host of activities including call &amp\; response\, storytelling\, audience participation and a live DJ to tell the story of Hip Hop&#39\;s journey.</p>\n
LOCATION:Freeman Arts Pavilion a program of the Joshua M. Freeman Foundation is a champion of the arts on Delmarva\, providing diverse arts performances as well as arts access programs for local schools and the community at large. From June-September the Freeman Arts Pavilion is an open-air performance space showcasing music\, dance\, comedy\, theater\, children's programs\, and free events.
UID:e.2126.26102
SEQUENCE:3
DTSTAMP:20260421T005008Z
URL:http://business.thequietresorts.com/events/details/the-principles-of-hip-hop-celebrating-50-years-26102
END:VEVENT

END:VCALENDAR
