BEGIN:VCALENDAR
VERSION:2.0
PRODID:-//ChamberMaster//Event Calendar 2.0//EN
METHOD:PUBLISH
X-PUBLISHED-TTL:P3D
REFRESH-INTERVAL:P3D
CALSCALE:GREGORIAN
BEGIN:VEVENT
DTSTART:20200912T000000Z
DTEND:20200912T020000Z
X-MICROSOFT-CDO-ALLDAYEVENT:FALSE
SUMMARY:The Music of Simon & Garfunkel: Swearingen and Kelli
DESCRIPTION:Swearingen & Kelli recreate the music\, memories and magic of the most famous folk-rock duo of our time\, Simon and Garfunkel. AJ Swearingen has been performing this music for 20 years with mastery of Paul Simon's intricate guitar playing. His deep baritone blends perfectly against Kelli's angelic vocals delivering a true tribute to the sound of the 1960s Greenwich Village\, N.Y. coffeehouse performances. The duo is on a mission to share this iconic music to new audiences around the country. Both artists were inspired by the great singer-songwriters of the past like Paul Simon\, James Taylor\, Carole King\, Jim Croce and The Eagles among others. The duo has also been performing and writing music together since 2010\, debuting their first self-titled album in 2013. Folk icon Tom Rush recorded and released their song\, "You're Not Here With Me" on his last studio release. The sophomore album\, The Marrying Kind released on July 21\, 2017\, has been featured on Gretsch Guitar and The Daily Country.
X-ALT-DESC;FMTTYPE=text/html:<span style="font-size: 14px\;"><span style="font-family: arial\;">Swearingen &amp\; Kelli recreate the music\, memories and magic of the most famous folk-rock duo of our time\, Simon and Garfunkel. AJ Swearingen has been performing this music for 20 years with mastery of Paul Simon&#39\;s intricate guitar playing. His deep baritone blends perfectly against Kelli&#39\;s angelic vocals delivering a true tribute to the sound of the 1960s Greenwich Village\, N.Y. coffeehouse performances. The duo is on a mission to share this iconic music to new audiences around the country. Both artists were inspired by the great singer-songwriters of the past like Paul Simon\, James Taylor\, Carole King\, Jim Croce and The Eagles among others. The duo has also been performing and writing music together since 2010\, debuting their first self-titled album in 2013. Folk icon Tom Rush recorded and released their song\, &quot\;You&#39\;re Not Here With Me&quot\; on his last studio release. The sophomore album\, The Marrying Kind released on July 21\, 2017\, has been featured on Gretsch Guitar and The Daily Country.</span></span>
LOCATION:The Freeman Stage 31750 Lake View Drive Selbyville\, DE 19975
UID:e.2126.21740
SEQUENCE:3
DTSTAMP:20260425T145418Z
URL:http://business.thequietresorts.com/events/details/the-music-of-simon-garfunkel-swearingen-and-kelli-21740
END:VEVENT

END:VCALENDAR
