BEGIN:VCALENDAR
VERSION:2.0
PRODID:-//ChamberMaster//Event Calendar 2.0//EN
METHOD:PUBLISH
X-PUBLISHED-TTL:P3D
REFRESH-INTERVAL:P3D
CALSCALE:GREGORIAN
BEGIN:VEVENT
DTSTART:20200905T140000Z
DTEND:20200905T150000Z
X-MICROSOFT-CDO-ALLDAYEVENT:FALSE
SUMMARY:The Music\, Bubble and Comedy Show: Imagine Your Story!
DESCRIPTION:The Music\, Bubble and Comedy Show: Imagine Your Story features wonderful songs and tales based on classic fairy tales from Hans Christian Anderson\, The Brothers Grimm\, and explores mythological creatures from around the world including mermaids\, unicorns\, fairies\, hobbits\, witches\, wizards\, pirates and many more! The show engages children with songs\, comedy\, bubbles\, and music technology. It is also crafted to be inclusive for all children including children on the Autism Spectrum. Each song in the 45-minute show is accompanied by hands-on\, visual\, and sensory experiences designed to help kids learn and have fun at the same time. Kids will dance\, sing\, and use their imaginations.
X-ALT-DESC;FMTTYPE=text/html:<span style="font-size: 14px\;"><span style="font-family: arial\;">The Music\, Bubble and Comedy Show: Imagine Your Story features wonderful songs and tales based on classic fairy tales from Hans Christian Anderson\, The Brothers Grimm\, and explores mythological creatures from around the world including mermaids\, unicorns\, fairies\, hobbits\, witches\, wizards\, pirates and many more! The show engages children with songs\, comedy\, bubbles\, and music technology. It is also crafted to be inclusive for all children including children on the Autism Spectrum. Each song in the 45-minute show is accompanied by hands-on\, visual\, and sensory experiences designed to help kids learn and have fun at the same time. Kids will dance\, sing\, and use their imaginations.</span></span>
LOCATION:The Freeman Stage 31750 Lake View Drive Selbyville\, DE 19975
UID:e.2126.21737
SEQUENCE:3
DTSTAMP:20260425T131355Z
URL:http://business.thequietresorts.com/events/details/the-music-bubble-and-comedy-show-imagine-your-story-21737
END:VEVENT

END:VCALENDAR
