BEGIN:VCALENDAR
VERSION:2.0
PRODID:-//ChamberMaster//Event Calendar 2.0//EN
METHOD:PUBLISH
X-PUBLISHED-TTL:P3D
REFRESH-INTERVAL:P3D
CALSCALE:GREGORIAN
BEGIN:VEVENT
DTSTART:20230730T230000Z
DTEND:20230731T020000Z
X-MICROSOFT-CDO-ALLDAYEVENT:FALSE
SUMMARY:The Mavericks
DESCRIPTION:TICKETS ARE $39\n\nThe Mavericks\, the eclectic rock and country group known for crisscrossing musical boundaries with abandon\, has gone through three distinct phases since it was founded in Miami in 1989. An initial period of heady success marked by big hits and critical acclaim in the '90s. A long hiatus starting 2003 when the musicians each went their own way. And finally\, a triumphant reunion in 2012 which held long enough for them to recently celebrate the band's 30th anniversary.\n\nNow\, The Mavericks have ushered in the fourth phase of their evolution with the #1 Billboard debut of their first-ever\, all Spanish album\, En Espa ol\, released on the band's own Mono Mundo label. Although all 12 tracks are in Spanish\, as the title suggests\, the collection represents a diversity of musical styles and cultural traditions\, from tender boleros to brassy mariachi to reimagined Afro-Cuban classics. Seven of the tunes are familiar gems drawn from the vast Latin American songbook\, while five are originals written or co-written by Malo.\n\nLike the band's entire body of music\, this one album cannot be boxed into a single category. The songs are as diverse as Latin America itself\, and as cohesive as the ideal of the American melting pot. To season this rich musical paella\, The Mavericks add their signature country/rock/Tex-Mex flavors and a refreshing spontaneity to the mix. En Espa ol flips the band's usual fusion formula\, which adds a striking assortment of genres   salsa\, ska\, norte o\, mariachi\, and much more   to its sturdy rock/country base. Now\, the foundation is solidly Latin with streaks of irreverent rock and twangy guitars running through it\, all branded with the unmistakable Mavericks style.
X-ALT-DESC;FMTTYPE=text/html:<h6>TICKETS ARE $39</h6>\n\n<p>The Mavericks\, the eclectic rock and country group known for crisscrossing musical boundaries with abandon\, has gone through three distinct phases since it was founded in Miami in 1989. An initial period of heady success marked by big hits and critical acclaim in the &lsquo\;90s. A long hiatus starting 2003 when the musicians each went their own way. And finally\, a triumphant reunion in 2012 which held long enough for them to recently celebrate the band&rsquo\;s 30th anniversary.</p>\n\n<p>Now\, The Mavericks have ushered in the fourth phase of their evolution with the #1 Billboard debut of their first-ever\, all Spanish album\, En Espa&ntilde\;ol\, released on the band&rsquo\;s own Mono Mundo label. Although all 12 tracks are in Spanish\, as the title suggests\, the collection represents a diversity of musical styles and cultural traditions\, from tender boleros to brassy mariachi to reimagined Afro-Cuban classics. Seven of the tunes are familiar gems drawn from the vast Latin American songbook\, while five are originals written or co-written by Malo.</p>\n\n<p>Like the band&rsquo\;s entire body of music\, this one album cannot be boxed into a single category. The songs are as diverse as Latin America itself\, and as cohesive as the ideal of the American melting pot. To season this rich musical paella\, The Mavericks add their signature country/rock/Tex-Mex flavors and a refreshing spontaneity to the mix. En Espa&ntilde\;ol flips the band&rsquo\;s usual fusion formula\, which adds a striking assortment of genres &mdash\; salsa\, ska\, norte&ntilde\;o\, mariachi\, and much more &mdash\; to its sturdy rock/country base. Now\, the foundation is solidly Latin with streaks of irreverent rock and twangy guitars running through it\, all branded with the unmistakable Mavericks style.&nbsp\;</p>\n
LOCATION:Freeman Arts Pavilion a program of the Joshua M. Freeman Foundation is a champion of the arts on Delmarva\, providing diverse arts performances as well as arts access programs for local schools and the community at large. From June-September the Freeman Arts Pavilion is an open-air performance space showcasing music\, dance\, comedy\, theater\, children's programs\, and free events.
UID:e.2126.26112
SEQUENCE:3
DTSTAMP:20260420T230120Z
URL:http://business.thequietresorts.com/events/details/the-mavericks-26112
END:VEVENT

END:VCALENDAR
