BEGIN:VCALENDAR
VERSION:2.0
PRODID:-//ChamberMaster//Event Calendar 2.0//EN
METHOD:PUBLISH
X-PUBLISHED-TTL:P3D
REFRESH-INTERVAL:P3D
CALSCALE:GREGORIAN
BEGIN:VEVENT
DTSTART:20230414T230000Z
DTEND:20230415T000000Z
X-MICROSOFT-CDO-ALLDAYEVENT:FALSE
SUMMARY:The Magical Kevin Bethea
DESCRIPTION:Kevin is one of the most sought-after corporate entertainers in the country. You may have seen him on CN8   The Comcast Network on the "Your Morning" show. He was also a regular headliner at the Dickens Parlour Theatre located at the Tropicana Casino & Resort in Atlantic City and Monday Night Magic: New York's Longest Running Off-Broadway Magic Show. A native of New Jersey\, Kevin is a full-time professional magician/Illusionist with over 30 years of performing experience!
X-ALT-DESC;FMTTYPE=text/html:<span style="color:rgb(0\, 0\, 0)\; font-family:tahoma\,geneva\,sans-serif\; font-size:14px">Kevin is one of the most sought-after corporate entertainers in the country. You may have seen him on&nbsp\;</span><span style="color:rgb(0\, 0\, 0)\; font-family:tahoma\,geneva\,sans-serif\; font-size:14px">CN8</span><span style="color:rgb(0\, 0\, 0)\; font-family:tahoma\,geneva\,sans-serif\; font-size:14px">&nbsp\;&ndash\; The Comcast Network on the &ldquo\;Your Morning&rdquo\; show. He was also a regular headliner at the Dickens Parlour Theatre located at the Tropicana Casino &amp\; Resort in Atlantic City and Monday Night Magic: New York&rsquo\;s Longest Running Off-Broadway Magic Show. A native of New Jersey\, Kevin is a full-time professional magician/Illusionist with over 30 years of performing experience!&nbsp\;</span>
LOCATION:Dickens Parlour Theatre 31810 Good Earth Lane Ocean View\, DE 19970
UID:e.2126.25331
SEQUENCE:3
DTSTAMP:20260421T040355Z
URL:http://business.thequietresorts.com/events/details/the-magical-kevin-bethea-25331
END:VEVENT

END:VCALENDAR
