BEGIN:VCALENDAR
VERSION:2.0
PRODID:-//ChamberMaster//Event Calendar 2.0//EN
METHOD:PUBLISH
X-PUBLISHED-TTL:P3D
REFRESH-INTERVAL:P3D
CALSCALE:GREGORIAN
BEGIN:VEVENT
DTSTART:20230923T230000Z
DTEND:20230924T000000Z
X-MICROSOFT-CDO-ALLDAYEVENT:FALSE
SUMMARY:The Magic of Salazar
DESCRIPTION:Anthony Salazar is back at the Dickens with his fast-paced and fun magic show!  Anthony has the ability to connect with crowds from Baby Boomers to Gen-Z.  His onstage personality is a combination of a slight edge and likability that wins over the hearts of audiences anywhere.\n\n\n\nSalazar developed his skill in the art of magic at a very young age and has since made this part of show business his life's work. Anthony was born in the Philippines\, and at the age of ten\, moved to America where he would soon discover a book that would open his world to art of magic.  At 13\, he moved to a town with a nearby magic shop where he would spend hours every day learning his craft.  After high school\, he started performing full-time professionally and never looked back.  He would go on to perform his carefully blended combination of comedy\, illusions\, and award-winning sleight-of hand for thousands. He also works as a magic consultant for commercials and television shows.
X-ALT-DESC;FMTTYPE=text/html:<span style="font-family:arial"><span style="font-size:14px">Anthony Salazar is back at the Dickens with his fast-paced and fun magic show!&nbsp\;&nbsp\;<span style="background-color:rgb(255\, 255\, 255)\; color:rgb(51\, 51\, 51)">Anthony has the ability to connect with crowds from Baby Boomers to Gen-Z. &nbsp\;His onstage personality is a combination of a slight edge and likability that wins over the hearts of&nbsp\;audiences anywhere.</span><br />\n<br />\nSalazar developed his skill in the art of magic at a very young age and has since made this part of show business his life&rsquo\;s work. Anthony was born in the Philippines\, and at the age of ten\, moved to America where he would soon discover a book that would open his world to art of magic.&nbsp\; At 13\, he moved to a town with a nearby magic shop where he would spend hours every day learning his craft.&nbsp\; After high school\, he started performing full-time professionally and never looked back.&nbsp\; He would go on to perform his carefully blended combination of comedy\, illusions\, and award-winning sleight-of hand for thousands. He also works as a magic consultant for commercials and television shows.&nbsp\;</span></span>\n<p>&nbsp\;</p>\n
LOCATION:Dickens Parlour Theatre 31810 Good Earth Lane Ocean View\, DE 19970
UID:e.2126.26611
SEQUENCE:3
DTSTAMP:20260420T200132Z
URL:http://business.thequietresorts.com/events/details/the-magic-of-salazar-09-23-2023-26611
END:VEVENT

END:VCALENDAR
