BEGIN:VCALENDAR
VERSION:2.0
PRODID:-//ChamberMaster//Event Calendar 2.0//EN
METHOD:PUBLISH
X-PUBLISHED-TTL:P3D
REFRESH-INTERVAL:P3D
CALSCALE:GREGORIAN
BEGIN:VEVENT
DTSTART:20230624T230000Z
DTEND:20230625T000000Z
X-MICROSOFT-CDO-ALLDAYEVENT:FALSE
SUMMARY:The Magic of Mystique!
DESCRIPTION:With his unique style and diverse background\, Mystique the magician captivates audiences of all ages with remarkable feats of jaw-dropping spellbinding magic illusions and prestidigitation. For more than 2 decades\, Mystique has consistently wowed and mystified audiences with his act\, performing all over the country. Mystique is an all-around showman and unique performer.
X-ALT-DESC;FMTTYPE=text/html:<span style="color:rgb(0\, 0\, 0)\; font-family:tahoma\,geneva\,sans-serif\; font-size:14px">With his unique style and diverse background\, Mystique the magician captivates audiences of all ages with remarkable feats of jaw-dropping spellbinding magic illusions and prestidigitation. For more than 2 decades\, Mystique has consistently wowed and mystified audiences with his act\, performing all over the country. Mystique is an all-around showman and unique performer.</span>
LOCATION:Dickens Parlour Theatre 31810 Good Earth Lane Ocean View\, DE 19970
UID:e.2126.26010
SEQUENCE:3
DTSTAMP:20260421T005002Z
URL:http://business.thequietresorts.com/events/details/the-magic-of-mystique-06-24-2023-26010
END:VEVENT

END:VCALENDAR
