BEGIN:VCALENDAR
VERSION:2.0
PRODID:-//ChamberMaster//Event Calendar 2.0//EN
METHOD:PUBLISH
X-PUBLISHED-TTL:P3D
REFRESH-INTERVAL:P3D
CALSCALE:GREGORIAN
BEGIN:VEVENT
DTSTART:20220707T230000Z
DTEND:20220708T000000Z
X-MICROSOFT-CDO-ALLDAYEVENT:FALSE
SUMMARY:The Little Mermen
DESCRIPTION:Hailed by BuzzFeed and Time Out New York as the premier Disney cover experience\, The Little Mermen covers all 82 of the Disney canon\, including favorites from The Little Mermaid\, The Lion King\, Mary Poppins\, and Frozen. The group dresses in full costume and performs in character to sold-out crowds nationwide. www.thelittlemermen.com
X-ALT-DESC;FMTTYPE=text/html:<span dir="ltr" style="font-family:sans-serif\; font-size:13.4px">Hailed by</span><span dir="ltr" style="font-family:sans-serif\; font-size:13.4px"> BuzzFeed and</span><span dir="ltr" style="font-family:sans-serif\; font-size:13.4px"> T</span><span dir="ltr" style="font-family:sans-serif\; font-size:13.4px">ime Out</span><span dir="ltr" style="font-family:sans-serif\; font-size:13.4px"> New York as the premier Disney cover</span><span dir="ltr" style="font-family:sans-serif\; font-size:13.4px"> experience\, The Little Mermen covers all</span><span dir="ltr" style="font-family:sans-serif\; font-size:13.4px"> 82 of the</span><span dir="ltr" style="font-family:sans-serif\; font-size:13.4px"> </span><span dir="ltr" style="font-family:sans-serif\; font-size:13.4px">Disney</span><span dir="ltr" style="font-family:sans-serif\; font-size:13.4px"> </span><span dir="ltr" style="font-family:sans-serif\; font-size:13.4px">canon\, includi</span><span dir="ltr" style="font-family:sans-serif\; font-size:13.4px">ng</span><span dir="ltr" style="font-family:sans-serif\; font-size:13.4px"> favorites from The</span><span dir="ltr" style="font-family:sans-serif\; font-size:13.4px"> </span><span dir="ltr" style="font-family:sans-serif\; font-size:13.4px">Little Mermaid\, The</span><span dir="ltr" style="font-family:sans-serif\; font-size:13.4px"> Lion King\,</span><span dir="ltr" style="font-family:sans-serif\; font-size:13.4px"> </span><span dir="ltr" style="font-family:sans-serif\; font-size:13.4px">Mary Poppins\, and Frozen.</span><span dir="ltr" style="font-family:sans-serif\; font-size:13.4px"> Th</span><span dir="ltr" style="font-family:sans-serif\; font-size:13.4px">e</span><span dir="ltr" style="font-family:sans-serif\; font-size:13.4px"> </span><span dir="ltr" style="font-family:sans-serif\; font-size:13.4px">group</span><span dir="ltr" style="font-family:sans-serif\; font-size:13.4px"> </span><span dir="ltr" style="font-family:sans-serif\; font-size:13.4px">dresses in full costume and</span><span dir="ltr" style="font-family:sans-serif\; font-size:13.4px"> performs in chara</span><span dir="ltr" style="font-family:sans-serif\; font-size:13.4px">cter</span><span dir="ltr" style="font-family:sans-serif\; font-size:13.4px"> </span><span dir="ltr" style="font-family:sans-serif\; font-size:13.4px">to sold</span><span dir="ltr" style="font-family:sans-serif\; font-size:13.4px">-</span><span dir="ltr" style="font-family:sans-serif\; font-size:13.4px">out crowds</span><span dir="ltr" style="font-family:sans-serif\; font-size:13.4px"> nationwide.</span><span dir="ltr" style="font-family:sans-serif\; font-size:13.4px"> </span><span dir="ltr" style="font-family:sans-serif\; font-size:13.4px">www.thelittlemermen.com</span>
LOCATION:Bethany Beach Bandstand Garfield Parkway & Boardwalk\, Bethany Beach
UID:e.2126.23762
SEQUENCE:3
DTSTAMP:20260421T204805Z
URL:http://business.thequietresorts.com/events/details/the-little-mermen-23762
END:VEVENT

END:VCALENDAR
