BEGIN:VCALENDAR
VERSION:2.0
PRODID:-//ChamberMaster//Event Calendar 2.0//EN
METHOD:PUBLISH
X-PUBLISHED-TTL:P3D
REFRESH-INTERVAL:P3D
CALSCALE:GREGORIAN
BEGIN:VEVENT
DTSTART:20191207T150000Z
DTEND:20191207T210000Z
X-MICROSOFT-CDO-ALLDAYEVENT:FALSE
SUMMARY:The Lewes Historical Society's 46th Annual Christmas Tour of Lewes
DESCRIPTION:Experience historic Lewes\, Delaware\, the first town in the first state\, decorated for the season! This self-guided Christmas tour is the Society's signature event and showcases nine private homes at their holiday best. The Lewes Historical Society's campus will hold an array of activities including roaming living history interpreters\, and period carolers\, music and a holiday greens sale. Tickets are for sale now. Call 302-645-7670 or visit https://shop.historiclewes.org/collections/frontpage/products/christmas-tour-of-lewes-2019-ticket
X-ALT-DESC;FMTTYPE=text/html:<span style="font-family: arial\;"><span style="font-size: 14px\;">Experience historic Lewes\, Delaware\, the first town in the first state\, decorated for the season! This self-guided Christmas tour is the Society&#39\;s signature event and showcases nine private homes at their holiday best. The Lewes Historical Society&#39\;s campus will hold an array of activities including roaming living history interpreters\, and period carolers\, music and a holiday greens sale. Tickets are for sale now. Call 302-645-7670 or visit <a href="https://shop.historiclewes.org/collections/frontpage/products/christmas-tour-of-lewes-2019-ticket"><font color="#0066cc">https://shop.historiclewes.org/collections/frontpage/products/christmas-tour-of-lewes-2019-ticket</font></a></span></span>
LOCATION:Lewes\, DE
UID:e.2126.19434
SEQUENCE:3
DTSTAMP:20260426T035011Z
URL:http://business.thequietresorts.com/events/details/the-lewes-historical-society-s-46th-annual-christmas-tour-of-lewes-19434
END:VEVENT

END:VCALENDAR
