BEGIN:VCALENDAR
VERSION:2.0
PRODID:-//ChamberMaster//Event Calendar 2.0//EN
METHOD:PUBLISH
X-PUBLISHED-TTL:P3D
REFRESH-INTERVAL:P3D
CALSCALE:GREGORIAN
BEGIN:VEVENT
DTSTART:20230816T230000Z
DTEND:20230817T020000Z
X-MICROSOFT-CDO-ALLDAYEVENT:FALSE
SUMMARY:The Legendary Ingramettes
DESCRIPTION:ADMISSION: FREE\n\nSix decades of music\, 65 years of song\, generations tied together through the force of will of a matriarchy of powerful Black women. This is the African-American gospel group The Legendary Ingramettes\, founded by Maggie Ingram (who passed away in 2015) as a way to keep her family together through hardship\, and taken up by her daughter Almeta Ingram-Miller as a way to continue Maggie's legacy. Inspired by the Black gospel male quartets of the 1940s and '50s\, now known as Richmond\, Virginia's "First Family of Gospel Music" The Legendary Ingramettes bring roof-raising harmonies and explosively powerful vocals\, all driven by the voices of women backed by a rock-solid house-shaking rhythm section.
X-ALT-DESC;FMTTYPE=text/html:<h6>ADMISSION: FREE</h6>\n\n<p>Six decades of music\, 65 years of song\, generations tied together through the force of will of a matriarchy of powerful Black women. This is the African-American gospel group The Legendary Ingramettes\, founded by Maggie Ingram (who passed away in 2015) as a way to keep her family together through hardship\, and taken up by her daughter Almeta Ingram-Miller as a way to continue Maggie&rsquo\;s legacy. Inspired by the Black gospel male quartets of the 1940s and &#39\;50s\, now known as Richmond\, Virginia&rsquo\;s &ldquo\;First Family of Gospel Music&rdquo\; The Legendary Ingramettes bring roof-raising harmonies and explosively powerful vocals\, all driven by the voices of women backed by a rock-solid house-shaking rhythm section.</p>\n
LOCATION:Freeman Arts Pavilion a program of the Joshua M. Freeman Foundation is a champion of the arts on Delmarva\, providing diverse arts performances as well as arts access programs for local schools and the community at large. From June-September the Freeman Arts Pavilion is an open-air performance space showcasing music\, dance\, comedy\, theater\, children's programs\, and free events.
UID:e.2126.26123
SEQUENCE:3
DTSTAMP:20260420T230327Z
URL:http://business.thequietresorts.com/events/details/the-legendary-ingramettes-26123
END:VEVENT

END:VCALENDAR
