BEGIN:VCALENDAR
VERSION:2.0
PRODID:-//ChamberMaster//Event Calendar 2.0//EN
METHOD:PUBLISH
X-PUBLISHED-TTL:P3D
REFRESH-INTERVAL:P3D
CALSCALE:GREGORIAN
BEGIN:VEVENT
DTSTART;VALUE=DATE:20240427
DTEND;VALUE=DATE:20240429
TRANSP:TRANSPARENT
X-MICROSOFT-CDO-ALLDAYEVENT:TRUE
SUMMARY:The Journey: 5K/ 1M + Pickleball and Tennis Tournaments at Sea Colony
DESCRIPTION:Join Sea Colony for the 2nd Annual weekend of fundraising for the Multiple Myeloma Research Foundation!\n\n\n\nThe MMRF Champions advancement of multiple myeloma therapies\, funding the most promising treatments for this rare form of blood cancer. Your participation makes a difference!\n\n\n\nSaturday\, April 27th\n\nCompass Draw Tennis Tournament | 12:30pm\n\nLevel 3.0+ | Men's & Women's Doubles ONLY (guaranteed 2 matches)\n\n$100pp early bird through March 15th\n\n$110pp from March 16th - April 19th\n\nAwards will be presented after event\n\n\n\nCocktail Happy Hour | 5:30pm - 7:30pm\n\n\n\nSunday\, April 28\n\n5K & 1M walk | 8am\n\nFirst 200 registrants will receive a race t-shirt!\n\nPre-registration by April 27th at 6pm\n\n$30pp 5K\n\n$25pp 1M\n\nEvent Day Registration\n\n$35pp 5K\n\n$30pp 1M\n\nRefreshments and awards will follow the race for age groups 9 & under to 80 & older!\n\n\n\nCompass Draw Pickleball Tournament | 11am\n\nLevels 3.0\, 3.5\, &4.0 | Men's & Women's Draws (guaranteed 2 matches)\n\n$100pp early bird through March 15th\n\n$110pp from March 16th - April 19th\n\nAwards will be presented after event\n\n\n\nRegister at: The Journey
X-ALT-DESC;FMTTYPE=text/html:<span style="font-size:14px\;">Join Sea Colony for the 2nd Annual weekend of fundraising for the Multiple Myeloma Research Foundation!</span><br />\n<br />\nThe MMRF Champions advancement of multiple myeloma therapies\, funding the most promising treatments for this rare form of blood cancer. Your participation makes a difference!<br />\n<br />\n<strong>Saturday\, April 27th</strong><br />\nCompass Draw Tennis Tournament | 12:30pm<br />\nLevel 3.0+ | Men&#39\;s &amp\; Women&#39\;s Doubles ONLY (guaranteed 2 matches)<br />\n$100pp early bird through March 15th<br />\n$110pp from March 16th - April 19th<br />\nAwards will be presented after event<br />\n<br />\nCocktail Happy Hour | 5:30pm - 7:30pm<br />\n<br />\n<strong>Sunday\, April 28</strong><br />\n5K &amp\; 1M walk | 8am<br />\nFirst 200 registrants will receive a race t-shirt!<br />\nPre-registration by April 27th at 6pm<br />\n$30pp 5K<br />\n$25pp 1M<br />\nEvent Day Registration<br />\n$35pp 5K<br />\n$30pp 1M<br />\nRefreshments and awards will follow the race for age groups 9 &amp\; under to 80 &amp\; older!<br />\n<br />\nCompass Draw Pickleball Tournament | 11am<br />\nLevels 3.0\, 3.5\, &amp\;4.0 | Men&#39\;s &amp\; Women&#39\;s Draws (guaranteed 2 matches)<br />\n$100pp early bird through March 15th<br />\n$110pp from March 16th - April 19th<br />\n<em>Awards will be presented after event</em><br />\n<br />\nRegister at: <a href="http://www.seacolony.com/thejourney">The Journey</a>
LOCATION:Sea Colony Racquet Sports Center 39359 Racquet Ln. Bethany Beach\, DE 19930
UID:e.2126.28532
SEQUENCE:3
DTSTAMP:20260420T061843Z
URL:http://business.thequietresorts.com/events/details/the-journey-5k-1m-pickleball-and-tennis-tournaments-at-sea-colony-28532
END:VEVENT

END:VCALENDAR
