BEGIN:VCALENDAR
VERSION:2.0
PRODID:-//ChamberMaster//Event Calendar 2.0//EN
METHOD:PUBLISH
X-PUBLISHED-TTL:P3D
REFRESH-INTERVAL:P3D
CALSCALE:GREGORIAN
BEGIN:VEVENT
DTSTART:20231008T223000Z
DTEND:20231009T010000Z
X-MICROSOFT-CDO-ALLDAYEVENT:FALSE
SUMMARY:The Jimmies
DESCRIPTION:Are you ready to go back in time and relive the glory days of the 80s? Look no further than Jimmies Flashback Band! With their electrifying performances and authentic sound\, this band will transport you straight back to the era of big hair\, neon colors\, and iconic music. From classic hits by Bruce Springsteen and Tom Petty to rock anthems by Queen and Aerosmith\, Jimmies Flashback Band has it all. Their talented musicians and high-energy stage presence will have you dancing and singing along in no time. Don't miss your chance to experience the ultimate 80s throwback with Jimmies Flashback Band.
X-ALT-DESC;FMTTYPE=text/html:Are you ready to go back in time and relive the glory days of the 80s? Look no further than Jimmies Flashback Band! With their electrifying performances and authentic sound\, this band will transport you straight back to the era of big hair\, neon colors\, and iconic music. From classic hits by Bruce Springsteen and Tom Petty to rock anthems by Queen and Aerosmith\, Jimmies Flashback Band has it all. Their talented musicians and high-energy stage presence will have you dancing and singing along in no time. Don&#39\;t miss your chance to experience the ultimate 80s throwback with Jimmies Flashback Band.
LOCATION:Bethany Beach Bandstand
UID:e.2126.26640
SEQUENCE:3
DTSTAMP:20260420T182938Z
URL:http://business.thequietresorts.com/events/details/the-jimmies-10-08-2023-26640
END:VEVENT

END:VCALENDAR
