BEGIN:VCALENDAR
VERSION:2.0
PRODID:-//ChamberMaster//Event Calendar 2.0//EN
METHOD:PUBLISH
X-PUBLISHED-TTL:P3D
REFRESH-INTERVAL:P3D
CALSCALE:GREGORIAN
BEGIN:VEVENT
DTSTART:20220917T220000Z
DTEND:20220917T233000Z
X-MICROSOFT-CDO-ALLDAYEVENT:FALSE
SUMMARY:The Jimmies
DESCRIPTION:The Jimmies recreate the music from the '80s including Devo\, INXS\, Springsteen\, Billy Idol\, ZZ-Top\, and more.  Members of the band have opened for bands including The Outfield\, Modern English\, Molly Hatchet\, Hootie and the Blowfish\, and Cheap Trick.
X-ALT-DESC;FMTTYPE=text/html:The Jimmies recreate the music from the &lsquo\;80s including Devo\, INXS\, Springsteen\, Billy Idol\, ZZ-Top\, and more. &nbsp\;Members of the band have opened for bands including The Outfield\, Modern English\, Molly Hatchet\, Hootie and the Blowfish\, and Cheap Trick.&nbsp\;
LOCATION:Bethany Beach Bandstand
UID:e.2126.24034
SEQUENCE:3
DTSTAMP:20260421T173808Z
URL:http://business.thequietresorts.com/events/details/the-jimmies-09-17-2022-24034
END:VEVENT

END:VCALENDAR
