BEGIN:VCALENDAR
VERSION:2.0
PRODID:-//ChamberMaster//Event Calendar 2.0//EN
METHOD:PUBLISH
X-PUBLISHED-TTL:P3D
REFRESH-INTERVAL:P3D
CALSCALE:GREGORIAN
BEGIN:VEVENT
DTSTART:20240619T140000Z
DTEND:20240619T170000Z
X-MICROSOFT-CDO-ALLDAYEVENT:FALSE
SUMMARY:The Historic Village in Ocean View is Open!
DESCRIPTION:The Historic Village in Ocean View is now open! On Wednesdays from 10:00 am-1:00pm\, from June 19th-August 28th. The Historic Village of Ocean View is located on 39th Central Ave\, Ocean View DE 19970.The mission of the Historic Village in Ocean View is to collect\, preserve\, interpret\, and celebrate the history of Ocean View\, Delaware\, and the surrounding area of Baltimore Hundred. Stop in for a tour!
X-ALT-DESC;FMTTYPE=text/html:The Historic Village in Ocean View is now open! On Wednesdays from 10:00 am-1:00pm\, from June 19th-August 28th. The Historic Village of Ocean View is located on 39th Central Ave\, Ocean View DE 19970.The mission of the Historic Village in Ocean View is to collect\, preserve\, interpret\, and celebrate the history of Ocean View\, Delaware\, and the surrounding area of Baltimore Hundred. Stop in for a tour!
LOCATION:Historic Village of Ocean View 39 Central Ave\, Ocean View\, DE 19970
UID:e.2126.30280
SEQUENCE:3
DTSTAMP:20260420T092338Z
URL:http://business.thequietresorts.com/events/details/the-historic-village-in-ocean-view-is-open-30280
END:VEVENT

END:VCALENDAR
