BEGIN:VCALENDAR
VERSION:2.0
PRODID:-//ChamberMaster//Event Calendar 2.0//EN
METHOD:PUBLISH
X-PUBLISHED-TTL:P3D
REFRESH-INTERVAL:P3D
CALSCALE:GREGORIAN
BEGIN:VEVENT
DTSTART:20200807T000000Z
DTEND:20200807T010000Z
X-MICROSOFT-CDO-ALLDAYEVENT:FALSE
SUMMARY:The Heart & Soul of Magic featuring Ran'D Shine & Jamahl Keyes
DESCRIPTION:Breathtaking\, mind-blowing and astonishing are just a few words that describe the Heart & Soul of Magic. This show features two world-class magicians Ran'D Shine and Jamahl Keyes. This unique production weaves a tapestry of psychological illusions\, comedy\, and music to create an immersive amazing experience\, that will keep you at the edge of your seat.
X-ALT-DESC;FMTTYPE=text/html:<span style="font-size: 14px\;"><span style="font-family: arial\;">Breathtaking\, mind-blowing and astonishing are just a few words that describe the Heart &amp\; Soul of Magic. This show features two world-class magicians Ran&rsquo\;D Shine and Jamahl Keyes. This unique production weaves a tapestry of psychological illusions\, comedy\, and music to create an immersive amazing experience\, that will keep you at the edge of your seat.</span></span>
LOCATION:The Freeman Stage 31750 Lake View Drive Selbyville\, DE 19975
UID:e.2126.21710
SEQUENCE:3
DTSTAMP:20260425T145241Z
URL:http://business.thequietresorts.com/events/details/the-heart-soul-of-magic-featuring-ran-d-shine-jamahl-keyes-21710
END:VEVENT

END:VCALENDAR
