BEGIN:VCALENDAR
VERSION:2.0
PRODID:-//ChamberMaster//Event Calendar 2.0//EN
METHOD:PUBLISH
X-PUBLISHED-TTL:P3D
REFRESH-INTERVAL:P3D
CALSCALE:GREGORIAN
BEGIN:VEVENT
DTSTART:20230422T230000Z
DTEND:20230423T000000Z
X-MICROSOFT-CDO-ALLDAYEVENT:FALSE
SUMMARY:"THE GALS WHO MAKE ME SING" PRESENTED BY SUE MATSUKI
DESCRIPTION:Making their return to our theater in a brand new show\, after performing two wonderful shows last November\, please join this multi-award winning\, New York City\, Cabaret/Jazz performing artist\, Sue Matsuki in "The Gals Who Make Me Sing!" Featuring: Musical Director/Arranger Gregory Toroian.
X-ALT-DESC;FMTTYPE=text/html:<span style="color:rgb(108\, 117\, 125)\; font-family:helvetica\,arial\,sans-serif">Making their return to our theater in a brand new show\, after performing two wonderful shows last November\, please join this multi-award winning\, New York City\, Cabaret/Jazz performing artist\, Sue Matsuki in &ldquo\;The Gals Who Make Me Sing!&rdquo\; Featuring: Musical Director/Arranger Gregory Toroian.&nbsp\;</span>
LOCATION:Dickens Parlour Theatre 31810 Good Earth Lane Ocean View\, DE 19970
UID:e.2126.25289
SEQUENCE:3
DTSTAMP:20260421T040655Z
URL:http://business.thequietresorts.com/events/details/the-gals-who-make-me-sing-presented-by-sue-matsuki-04-22-2023-25289
END:VEVENT

END:VCALENDAR
