BEGIN:VCALENDAR
VERSION:2.0
PRODID:-//ChamberMaster//Event Calendar 2.0//EN
METHOD:PUBLISH
X-PUBLISHED-TTL:P3D
REFRESH-INTERVAL:P3D
CALSCALE:GREGORIAN
BEGIN:VEVENT
DTSTART:20200906T000000Z
DTEND:20200906T020000Z
X-MICROSOFT-CDO-ALLDAYEVENT:FALSE
SUMMARY:The Funsters
DESCRIPTION:It would be hard to find a band that has more fun than The Funsters. It's why they are still entertaining thousands of people after 20-plus years of playing together. In this 9-piece band\, there has never been a personnel change! That tells the whole story of the secret of The Funster's success. Not only are these guys great musicians who share pride in each other's musical abilities\, but they are also friends. This spirit and camaraderie on stage are what sets The Funsters apart from other bands offering the same type of musical entertainment.
X-ALT-DESC;FMTTYPE=text/html:<span style="font-size: 14px\;"><span style="font-family: arial\;">It would be hard to find a band that has more fun than The Funsters. It&#39\;s why they are still entertaining thousands of people after 20-plus years of playing together. In this 9-piece band\, there has never been a personnel change! That tells the whole story of the secret of The Funster&rsquo\;s success. Not only are these guys great musicians who share pride in each other&rsquo\;s musical abilities\, but they are also friends. This spirit and camaraderie on stage are what sets The Funsters apart from other bands offering the same type of musical entertainment.</span></span>
LOCATION:The Freeman Stage 31750 Lake View Drive Selbyville\, DE 19975
UID:e.2126.21738
SEQUENCE:3
DTSTAMP:20260425T131019Z
URL:http://business.thequietresorts.com/events/details/the-funsters-21738
END:VEVENT

END:VCALENDAR
