BEGIN:VCALENDAR
VERSION:2.0
PRODID:-//ChamberMaster//Event Calendar 2.0//EN
METHOD:PUBLISH
X-PUBLISHED-TTL:P3D
REFRESH-INTERVAL:P3D
CALSCALE:GREGORIAN
BEGIN:VEVENT
DTSTART:20220707T233000Z
DTEND:20220708T010000Z
X-MICROSOFT-CDO-ALLDAYEVENT:FALSE
SUMMARY:The Flying Ivories
DESCRIPTION:Two performers on two pianos deliver an all-request\, rock and roll sing-along show that's part music\, part comedy\, and all fun. From Billy Joel to Aretha Franklin\, from Sinatra to Metallica\, from Johnny Cash to Katy Perry\, no two shows are ever the same. www.flyingivories.com
X-ALT-DESC;FMTTYPE=text/html:<span dir="ltr" style="font-family:sans-serif\; font-size:13.4px">Two performers on</span><span dir="ltr" style="font-family:sans-serif\; font-size:13.4px"> </span><span dir="ltr" style="font-family:sans-serif\; font-size:13.4px">two</span><span dir="ltr" style="font-family:sans-serif\; font-size:13.4px"> pianos deliver an all</span><span dir="ltr" style="font-family:sans-serif\; font-size:13.4px">-</span><span dir="ltr" style="font-family:sans-serif\; font-size:13.4px">request\, rock and roll</span><span dir="ltr" style="font-family:sans-serif\; font-size:13.4px"> sing</span><span dir="ltr" style="font-family:sans-serif\; font-size:13.4px">-</span><span dir="ltr" style="font-family:sans-serif\; font-size:13.4px">along</span><span dir="ltr" style="font-family:sans-serif\; font-size:13.4px"> </span><span dir="ltr" style="font-family:sans-serif\; font-size:13.4px">show that</span><span dir="ltr" style="font-family:sans-serif\; font-size:13.4px">&rsquo\;</span><span dir="ltr" style="font-family:sans-serif\; font-size:13.4px">s part music\, part</span><span dir="ltr" style="font-family:sans-serif\; font-size:13.4px"> comedy\, and all</span><span dir="ltr" style="font-family:sans-serif\; font-size:13.4px"> </span><span dir="ltr" style="font-family:sans-serif\; font-size:13.4px">fun. From Billy Joel to</span><span dir="ltr" style="font-family:sans-serif\; font-size:13.4px"> Aretha Franklin\, fro</span><span dir="ltr" style="font-family:sans-serif\; font-size:13.4px">m</span><span dir="ltr" style="font-family:sans-serif\; font-size:13.4px"> </span><span dir="ltr" style="font-family:sans-serif\; font-size:13.4px">Sinatra to</span><span dir="ltr" style="font-family:sans-serif\; font-size:13.4px"> Metallica\, from Johnny Cash</span><span dir="ltr" style="font-family:sans-serif\; font-size:13.4px"> </span><span dir="ltr" style="font-family:sans-serif\; font-size:13.4px">to Katy</span><span dir="ltr" style="font-family:sans-serif\; font-size:13.4px"> Perry\, no</span><span dir="ltr" style="font-family:sans-serif\; font-size:13.4px"> </span><span dir="ltr" style="font-family:sans-serif\; font-size:13.4px">two shows are ever the same.</span><span dir="ltr" style="font-family:sans-serif\; font-size:13.4px"> www.flyingivories.com</span>
LOCATION:Bethany Beach Bandstand Garfield Parkway & Boardwalk\, Bethany Beach
UID:e.2126.23763
SEQUENCE:3
DTSTAMP:20260421T204805Z
URL:http://business.thequietresorts.com/events/details/the-flying-ivories-23763
END:VEVENT

END:VCALENDAR
