BEGIN:VCALENDAR
VERSION:2.0
PRODID:-//ChamberMaster//Event Calendar 2.0//EN
METHOD:PUBLISH
X-PUBLISHED-TTL:P3D
REFRESH-INTERVAL:P3D
CALSCALE:GREGORIAN
BEGIN:VEVENT
DTSTART:20240101T140000Z
DTEND:20240101T153000Z
X-MICROSOFT-CDO-ALLDAYEVENT:FALSE
SUMMARY:The Fenwick Freeze!
DESCRIPTION:The Fenwick Freeze!\n\nGet ready to start the New Year and plunge with your family and friends!\n\nBring your towel and hot chocolate!\n\n\n\nPre-Register till 12/29/2023 at the Town Hall\n\nAll registrants receive a long sleeve t-shirt\n\nAll proceeds benefit the Fenwick Island Beach Patrol
X-ALT-DESC;FMTTYPE=text/html:<div style="text-align: center\;"><span style="font-size:14px\;"><span style="font-family:arial\;"><strong>The Fenwick Freeze!</strong><br />\nGet ready to start the New Year and plunge with your family and friends!<br />\n<em>Bring your towel and hot chocolate!<br />\n<br />\n<strong>Pre-Register till 12/29/2023&nbsp\;at the Town Hall<br />\nAll registrants receive a long sleeve t-shirt<br />\nAll proceeds benefit the Fenwick Island Beach Patrol</strong></em></span></span></div>\n
LOCATION:Bayard Street Beach Fenwick Island\, DE 19944
UID:e.2126.27146
SEQUENCE:3
DTSTAMP:20260420T151226Z
URL:http://business.thequietresorts.com/events/details/the-fenwick-freeze-27146
END:VEVENT

END:VCALENDAR
