BEGIN:VCALENDAR
VERSION:2.0
PRODID:-//ChamberMaster//Event Calendar 2.0//EN
METHOD:PUBLISH
X-PUBLISHED-TTL:P3D
REFRESH-INTERVAL:P3D
CALSCALE:GREGORIAN
BEGIN:VEVENT
DTSTART:20231014T223000Z
DTEND:20231015T010000Z
X-MICROSOFT-CDO-ALLDAYEVENT:FALSE
SUMMARY:The Fabulous Dialtones
DESCRIPTION:The Fabulous Dialtones are a classic rock cover band based in the metropolitan Washington\, DC area. This set will feature acoustic top 40 hits from the 1950s\, 60s\, 70s and 80s. Originally formed by employees of MCI Telecommunications in 1996\, these musicians play many of your favorite classic rock songs plus a few originals.
X-ALT-DESC;FMTTYPE=text/html:The Fabulous Dialtones are a classic rock cover band based in the metropolitan Washington\, DC area. This set will feature acoustic top 40 hits from the 1950s\, 60s\, 70s and 80s. Originally formed by employees of MCI Telecommunications in 1996\, these musicians play many of your favorite classic rock songs plus a few originals.
LOCATION:Bethany Beach Bandstand
UID:e.2126.26641
SEQUENCE:3
DTSTAMP:20260420T182931Z
URL:http://business.thequietresorts.com/events/details/the-fabulous-dialtones-10-14-2023-26641
END:VEVENT

END:VCALENDAR
