BEGIN:VCALENDAR
VERSION:2.0
PRODID:-//ChamberMaster//Event Calendar 2.0//EN
METHOD:PUBLISH
X-PUBLISHED-TTL:P3D
REFRESH-INTERVAL:P3D
CALSCALE:GREGORIAN
BEGIN:VEVENT
DTSTART:20240210T000000Z
DTEND:20240210T010000Z
X-MICROSOFT-CDO-ALLDAYEVENT:FALSE
SUMMARY:The Evasons: World-Famous Mentalist Duo at Dickens Parlour
DESCRIPTION:Join Jeff & Tessa Evason for mind-blowing feats of telepathy and ESP that'll have you buzzing long after the show ends. Everyone who participates will be floored when Tessa reveals their birth date\, a serial number on any bill in their wallet\, or even the name of the first person they ever kissed all while standing blindfolded on stage. Her intuitive gifts will make you gasp with surprise and maybe even unleash a spooked-out shriek! Since 1983 this mind-reading duo has performed in over 35 countries across the globe. The Evasons consistently deliver an interactive entertainment experience that has audience members sitting on the edge of their seats from start to finish. No confederates or hidden communication devices are used and they'll offer you a $100\,000 reward if you can prove otherwise! Even the skeptics will be left speechless after seeing them in action!
X-ALT-DESC;FMTTYPE=text/html:<span style="color:rgb(108\, 117\, 125)\; font-family:helvetica\,arial\,sans-serif">Join Jeff &amp\; Tessa Evason for mind-blowing feats of telepathy and ESP that&rsquo\;ll have you buzzing long after the show ends. Everyone who participates will be floored when Tessa reveals their birth date\, a serial number on any bill in their wallet\, or even the name of the first person they ever kissed&mdash\;all while standing blindfolded on stage. Her intuitive gifts will make you gasp with surprise and maybe even unleash a spooked-out shriek! Since 1983 this mind-reading duo has performed in over 35 countries across the globe. The Evasons consistently deliver an interactive entertainment experience that has audience members sitting on the edge of their seats from start to finish. No confederates or hidden communication devices are used and they&rsquo\;ll offer you a $100\,000 reward if you can prove otherwise! Even the skeptics will be left speechless after seeing them in action!</span>
LOCATION:Dickens Parlour Theatre 31810 Good Earth Lane Ocean View\, DE 19970
UID:e.2126.28230
SEQUENCE:3
DTSTAMP:20260420T112507Z
URL:http://business.thequietresorts.com/events/details/the-evasons-world-famous-mentalist-duo-at-dickens-parlour-28230
END:VEVENT

END:VCALENDAR
