BEGIN:VCALENDAR
VERSION:2.0
PRODID:-//ChamberMaster//Event Calendar 2.0//EN
METHOD:PUBLISH
X-PUBLISHED-TTL:P3D
REFRESH-INTERVAL:P3D
CALSCALE:GREGORIAN
BEGIN:VEVENT
DTSTART:20200719T000000Z
DTEND:20200719T020000Z
X-MICROSOFT-CDO-ALLDAYEVENT:FALSE
SUMMARY:The Eddie Sherman Show featuring Peggy Raley & The True Blue Jazz All-Stars
DESCRIPTION:Eddie Sherman and Peggy Raley take you on a delightful romp through the Great American Songbook accompanied by an assembly of some of the Mid-Atlantic's finest Jazz musicians. Eddie and Peggy are the founders and producers of The True Blue Jazz Festival\, the independent\, straight-ahead Jazz Festival in Rehoboth Beach. Long-standing performers and educators\, the preservation of America's one true art form   Jazz   is the driving force behind everything they do.
X-ALT-DESC;FMTTYPE=text/html:<span style="font-size: 14px\;"><span style="font-family: arial\;">Eddie Sherman and Peggy Raley take you on a delightful romp through the Great American Songbook accompanied by an assembly of some of the Mid-Atlantic&rsquo\;s finest Jazz musicians. Eddie and Peggy are the founders and producers of The True Blue Jazz Festival\, the independent\, straight-ahead Jazz Festival in Rehoboth Beach. Long-standing performers and educators\, the preservation of America&rsquo\;s one true art form &mdash\; Jazz &mdash\; is the driving force behind everything they do.</span></span>
LOCATION:The Freeman Stage 31750 Lake View Drive Selbyville\, DE 19975
UID:e.2126.21693
SEQUENCE:3
DTSTAMP:20260425T163523Z
URL:http://business.thequietresorts.com/events/details/the-eddie-sherman-show-featuring-peggy-raley-the-true-blue-jazz-all-stars-21693
END:VEVENT

END:VCALENDAR
