BEGIN:VCALENDAR
VERSION:2.0
PRODID:-//ChamberMaster//Event Calendar 2.0//EN
METHOD:PUBLISH
X-PUBLISHED-TTL:P3D
REFRESH-INTERVAL:P3D
CALSCALE:GREGORIAN
BEGIN:VEVENT
DTSTART:20240412T230000Z
DTEND:20240413T000000Z
X-MICROSOFT-CDO-ALLDAYEVENT:FALSE
SUMMARY:The Dickens Parlour Theatre Presents: The Magic of Rich Bloch
DESCRIPTION:Come experience the magic that captivated a young Rich Bloch and inspired him to later open the Dickens Parlour Theatre! \n\n\n\nIn 1946\, famed comics Bud Abbott and Lou Costello asked Billie Bloch\, Rich's mom\, for permission to have her three-year-old son stay in Hollywood and begin a career in show business under their tutelage. Billie declined\, whisking her son back to the safety of the east coast. But the hook was set. Rich entertains audiences worldwide\, including corporate events and cruise lines\, in Las Vegas and Atlantic City. Rich is a two-time recipient of the coveted "Blackstone Award" from the International Platform Association\, a six-time nominee for Stage Magician of the Year\, and a 2006 Fellowship recipient at Hollywood's famed Magic Castle. Rich is also a magician's magician. He has invented over 80 magic effects\, many of which were sold through Rich's magic manufacturing studio\, "Collectors' Workshop\," where each effect was hand-made by artisans on a farm in Middleburg\, Virginia. Very early in his magic career\, Rich served as a scriptwriter and magic consultant to the legendary Orson Welles\, who referred to Rich as "an Edison of Magic."
X-ALT-DESC;FMTTYPE=text/html:Come experience the magic that captivated a young Rich Bloch and inspired him to later open the Dickens Parlour Theatre!&nbsp\;<br />\n<br />\n<span style="color:rgb(0\, 0\, 0)\; font-family:helvetica\,arial\,sans-serif">In 1946\, famed comics Bud Abbott and Lou Costello asked Billie Bloch\, Rich&rsquo\;s mom\, for permission to have her three-year-old son stay in Hollywood and begin a career in show business under their tutelage. Billie declined\, whisking her son back to the safety of the east coast. But the hook was set. Rich entertains audiences worldwide\, including corporate events and cruise lines\, in Las Vegas and Atlantic City. Rich is a two-time recipient of the coveted &ldquo\;Blackstone Award&rdquo\; from the International Platform Association\, a six-time nominee for Stage Magician of the Year\, and a 2006 Fellowship recipient at Hollywood&rsquo\;s famed Magic Castle. Rich is also a magician&rsquo\;s magician. He has invented over 80 magic effects\, many of which were sold through Rich&rsquo\;s magic manufacturing studio\, &ldquo\;Collectors&rsquo\; Workshop\,&rdquo\; where each effect was hand-made by artisans on a farm in Middleburg\, Virginia. Very early in his magic career\, Rich served as a scriptwriter and magic consultant to the legendary Orson Welles\, who referred to Rich as &ldquo\;an Edison of Magic.&rdquo\;</span>
LOCATION:Dickens Parlour Theatre 31810 Good Earth Lane Ocean View\, DE 19970
UID:e.2126.28502
SEQUENCE:3
DTSTAMP:20260420T061450Z
URL:http://business.thequietresorts.com/events/details/the-dickens-parlour-theatre-presents-the-magic-of-rich-bloch-04-12-2024-28502
END:VEVENT

END:VCALENDAR
