BEGIN:VCALENDAR
VERSION:2.0
PRODID:-//ChamberMaster//Event Calendar 2.0//EN
METHOD:PUBLISH
X-PUBLISHED-TTL:P3D
REFRESH-INTERVAL:P3D
CALSCALE:GREGORIAN
BEGIN:VEVENT
DTSTART:20231203T000000Z
DTEND:20231203T010000Z
X-MICROSOFT-CDO-ALLDAYEVENT:FALSE
SUMMARY:The Dickens Parlour Theatre presents: The Magic of Randy Forster
DESCRIPTION:Randy Forster was mesmerized and dazzled watching a 3 Card Monte card trick at the Yogi Magic Mart as a young man in downtown Baltimore and was hooked! He has been performing Magic since then\, mainly in the middle Atlantic states\, for corporate events\, private organizations\, and parties\, as well as local restaurants\, clubs\, and charities. Randy's style has made him a favorite performer of young and old alike.
X-ALT-DESC;FMTTYPE=text/html:<span style="color:rgb(0\, 0\, 0)\; font-family:tahoma\,geneva\,sans-serif\; font-size:14px">Randy Forster was mesmerized and dazzled watching a 3 Card Monte card trick at the Yogi Magic Mart as a young man in downtown Baltimore and was hooked! He has been performing Magic since then\, mainly in the middle Atlantic states\, for corporate events\, private organizations\, and parties\, as well as local restaurants\, clubs\, and charities. Randy&rsquo\;s style has made him a favorite performer of young and old alike.&nbsp\;</span>
LOCATION:Dickens Parlour Theatre 31810 Good Earth Lane Ocean View\, DE 19970
UID:e.2126.26677
SEQUENCE:3
DTSTAMP:20260420T152455Z
URL:http://business.thequietresorts.com/events/details/the-dickens-parlour-theatre-presents-the-magic-of-randy-forster-12-02-2023-26677
END:VEVENT

END:VCALENDAR
