BEGIN:VCALENDAR
VERSION:2.0
PRODID:-//ChamberMaster//Event Calendar 2.0//EN
METHOD:PUBLISH
X-PUBLISHED-TTL:P3D
REFRESH-INTERVAL:P3D
CALSCALE:GREGORIAN
BEGIN:VEVENT
DTSTART:20230629T230000Z
DTEND:20230630T000000Z
X-MICROSOFT-CDO-ALLDAYEVENT:FALSE
SUMMARY:The Dickens Parlour Theatre Presents: The Magic of Peter Samelson
DESCRIPTION:After his appearance on Penn & Teller's Fool Us\, Penn called Peter "one of the finest magicians alive today." Peter Samelson insists that he doesn't do magic\; he only helps people to see it. He is an illusionist/entertainer/philosopher\, blending simplicity and sophistication as he provokes thought and inspires wonder. A recent recipient of a Merlin Award for Lifetime Achievement\, and christened "the soft-spoken conceptualist of sorcery" by the New York Times\, Peter has distinguished himself not only as a magician\, but as an artist. He has performed atop the Great Wall of China\, for Mexican workers and Grand Prix drivers\, Princess Stephanie of Monaco\, the jet-set of Paris and the fishermen mending their nets on the beaches of Cartagena. Peter also designs for TV\, film and theater. He created magic for Sam Mendes productions at BAM and the Old Vic (London) and recently for two Broadway shows\, Leap of Faith and Harvey. He has also created and starred in three critically acclaimed Off-Broadway shows\; The Magician\, PaperWork\, and Radnevsky's Real Magic.
X-ALT-DESC;FMTTYPE=text/html:<span style="color:rgb(108\, 117\, 125)\; font-family:helvetica\,arial\,sans-serif">After his appearance on Penn &amp\; Teller&rsquo\;s Fool Us\, Penn called Peter &ldquo\;one of the finest magicians alive today.&rdquo\; Peter Samelson insists that he doesn&rsquo\;t do magic\; he only helps people to see it. He is an illusionist/entertainer/philosopher\, blending simplicity and sophistication as he provokes thought and inspires wonder. A recent recipient of a Merlin Award for Lifetime Achievement\, and christened &ldquo\;the soft-spoken conceptualist of sorcery&rdquo\; by the New York Times\, Peter has distinguished himself not only as a magician\, but as an artist. He has performed atop the Great Wall of China\, for Mexican workers and Grand Prix drivers\, Princess Stephanie of Monaco\, the jet-set of Paris and the fishermen mending their nets on the beaches of Cartagena. Peter also designs for TV\, film and theater. He created magic for Sam Mendes productions at BAM and the Old Vic (London) and recently for two Broadway shows\, Leap of Faith and Harvey. He has also created and starred in three critically acclaimed Off-Broadway shows\; The Magician\, PaperWork\, and Radnevsky&rsquo\;s Real Magic.</span>
LOCATION:Dickens Parlour Theatre 31810 Good Earth Lane Ocean View\, DE 19970
UID:e.2126.25984
SEQUENCE:3
DTSTAMP:20260421T004855Z
URL:http://business.thequietresorts.com/events/details/the-dickens-parlour-theatre-presents-the-magic-of-peter-samelson-06-29-2023-25984
END:VEVENT

END:VCALENDAR
