BEGIN:VCALENDAR
VERSION:2.0
PRODID:-//ChamberMaster//Event Calendar 2.0//EN
METHOD:PUBLISH
X-PUBLISHED-TTL:P3D
REFRESH-INTERVAL:P3D
CALSCALE:GREGORIAN
BEGIN:VEVENT
DTSTART:20230512T230000Z
DTEND:20230513T000000Z
X-MICROSOFT-CDO-ALLDAYEVENT:FALSE
SUMMARY:The Dickens Parlour Theatre presents: The Magic of Matt Roberts
DESCRIPTION:Matt Roberts is excited to return to the Dickens with his unique brand of astonishing magic and clean comedy. This all-ages performance features incredible magic\, tons of fun audience interaction\, skillful sleight-of-hand\, smart clean comedy\, predicting future events\, a jaw-dropping coincidence\, a demonstration of time travel\, Matt's memorable levitation illusion & more!
X-ALT-DESC;FMTTYPE=text/html:<span style="color:rgb(36\, 36\, 36)\; font-family:tahoma\,geneva\,sans-serif\; font-size:14px">Matt&nbsp\;Roberts&nbsp\;is excited to return to the Dickens with his unique brand of astonishing magic and clean comedy. This all-ages performance features incredible magic\, tons of fun audience interaction\, skillful sleight-of-hand\, smart clean comedy\, predicting future events\, a jaw-dropping coincidence\, a demonstration of time travel\,&nbsp\;Matt&rsquo\;s memorable levitation illusion &amp\; more!</span>
LOCATION:Dickens Parlour Theatre 31810 Good Earth Lane Ocean View\, DE 19970
UID:e.2126.25382
SEQUENCE:3
DTSTAMP:20260421T024253Z
URL:http://business.thequietresorts.com/events/details/the-dickens-parlour-theatre-presents-the-magic-of-matt-roberts-05-12-2023-25382
END:VEVENT

END:VCALENDAR
