BEGIN:VCALENDAR
VERSION:2.0
PRODID:-//ChamberMaster//Event Calendar 2.0//EN
METHOD:PUBLISH
X-PUBLISHED-TTL:P3D
REFRESH-INTERVAL:P3D
CALSCALE:GREGORIAN
BEGIN:VEVENT
DTSTART:20230622T230000Z
DTEND:20230623T000000Z
X-MICROSOFT-CDO-ALLDAYEVENT:FALSE
SUMMARY:The Dickens Parlour Theatre Presents: The Magic of Mark Phillips!
DESCRIPTION:Mark has delighted audiences in 37 countries as well as headlining on the highest-rated cruise lines. He is one of only 12 magicians in the last century to be given the National Theatre's "Star of Magic" award. His show will continually defy your expectations\, and be marveled by his breathtaking skill in classics like the Linking Rings and laugh at his hilarious comedic ability to improvise a story using a shuffled deck of cards. This is sure to be a fun-filled evening for the entire family!
X-ALT-DESC;FMTTYPE=text/html:<span style="color:rgb(108\, 117\, 125)\; font-family:helvetica\,arial\,sans-serif">Mark has delighted audiences in 37 countries as well as headlining on the highest-rated cruise lines. He is one of only 12 magicians in the last century to be given the National Theatre&#39\;s &quot\;Star of Magic&quot\; award. His show will continually defy your expectations\, and be marveled by his breathtaking skill in classics like the Linking Rings and laugh at his hilarious comedic ability to improvise a story using a shuffled deck of cards. This is sure to be a fun-filled evening for the entire family!</span>
LOCATION:Dickens Parlour Theatre 31810 Good Earth Lane Ocean View\, DE 19970
UID:e.2126.25949
SEQUENCE:3
DTSTAMP:20260421T024200Z
URL:http://business.thequietresorts.com/events/details/the-dickens-parlour-theatre-presents-the-magic-of-mark-phillips-06-22-2023-25949
END:VEVENT

END:VCALENDAR
